BEGIN:VCALENDAR
VERSION:2.0
PRODID:-//918 Bathurst - ECPv6.15.20//NONSGML v1.0//EN
CALSCALE:GREGORIAN
METHOD:PUBLISH
X-WR-CALNAME:918 Bathurst
X-ORIGINAL-URL:https://918bathurst.com
X-WR-CALDESC:Events for 918 Bathurst
REFRESH-INTERVAL;VALUE=DURATION:PT1H
X-Robots-Tag:noindex
X-PUBLISHED-TTL:PT1H
BEGIN:VTIMEZONE
TZID:UTC
BEGIN:STANDARD
TZOFFSETFROM:+0000
TZOFFSETTO:+0000
TZNAME:UTC
DTSTART:20240101T000000
END:STANDARD
END:VTIMEZONE
BEGIN:VEVENT
DTSTART;TZID=UTC:20250602T120000
DTEND;TZID=UTC:20250611T170000
DTSTAMP:20260420T214946
CREATED:20250514T152821Z
LAST-MODIFIED:20250514T152821Z
UID:19221-1748865600-1749661200@918bathurst.com
SUMMARY:The Colors and Soul of Korea: Dancheong
DESCRIPTION:To commemorate the 2024–2025 Korea–Canada Years of Cultural Exchange\, OIS ART OF CANADA\, in collaboration with MOOWOOSOO Gallery of Korea\, is pleased to present “ The Colors and Soul of Korea- Dancheong”\, an exhibition that explores the beauty and depth of traditional Korean art. \nThis exhibition highlights the artistic value and philosophy of Dancheong\, the traditional decorative painting found on Korean architecture\, showcasing a wide range of works from ancient craftsmanship to contemporary interpretations. \nA total of 11 artists\, including master Dancheong artisans and contemporary artists\, will participate—offering a unique opportunity to experience the harmony between tradition and modernity. \n🔸 Exhibition Dates: June 2 (Mon) – June 15 (Sun)\, 2025\n🔸 Venue: 918 Bathurst Gallery (918 Bathurst St.\, Toronto\, Ontario)\n🔸 Admission: Free \n🎉 Opening Reception:\n• Date & Time: Friday\, June 6\, 2025 | 5:00 PM – 8:00 PM\n• Program Includes:\n– Lecture by a Dancheong expert\n– Traditional Korean music performance\n– Korean traditional refreshments \nThe Opening Reception will offer a meaningful cultural experience through a talk that explores the history\, symbolism\, and contemporary relevance of Dancheong—along with performances and refreshments to engage all five senses. \nWe warmly invite your interest and participation.
URL:https://918bathurst.com/event/the-colors-and-soul-of-korea-dancheong/
LOCATION:918 Bathurst: Culture\, Arts\, Media & Education\, 918 Bathurst Street\, Toronto\, ON\, M5R 3G5\, Canada
CATEGORIES:Event,Featured Event
ATTACH;FMTTYPE=image/png:https://918bathurst.com/wp-content/uploads/2025/05/OIS-Exhibition-scaled.png
END:VEVENT
BEGIN:VEVENT
DTSTART;TZID=UTC:20250613T210000
DTEND;TZID=UTC:20250613T230000
DTSTAMP:20260420T214946
CREATED:20250531T000122Z
LAST-MODIFIED:20250531T000122Z
UID:19241-1749848400-1749855600@918bathurst.com
SUMMARY:Kara-Lis Coverdale Record Release
DESCRIPTION:Kara-Lis Coverdale composes and performs musical works across acoustic and electronic mediums to create works that transcend reality. Driven by a devotion to sonic afterlife\, memory\, and material curiosity\, Coverdale’s work occupies new planes built upon a borderless understanding of electronic music rooted in the interlocking pathways ofmusical systems and languages. Steadfastly committed to developing and expanding her vivid understanding of music as an immersive\, tunable\, and listening world rich in emotion and sensitivity\, she is heralded as “one of the most exciting composers in North America” (The Guardian)\, and named unique navigator of the digital frontier with an ease and emotive sensitivity “we cannot yet comprehend” (FADER)\, Coverdale’s work has been met with consistent critical acclaim. \nFor more tickets and more information\, click here
URL:https://918bathurst.com/event/kara-lis-coverdale-record-release/
LOCATION:918 Bathurst: Culture\, Arts\, Media & Education\, 918 Bathurst Street\, Toronto\, ON\, M5R 3G5\, Canada
CATEGORIES:Event,Featured Event
ATTACH;FMTTYPE=image/jpeg:https://918bathurst.com/wp-content/uploads/2025/05/SnapInsta.to_501994958_18352378954153350_7667641210972480589_n.jpg
END:VEVENT
BEGIN:VEVENT
DTSTART;TZID=UTC:20250614T200000
DTEND;TZID=UTC:20250614T230000
DTSTAMP:20260420T214946
CREATED:20250531T000530Z
LAST-MODIFIED:20250531T000530Z
UID:19244-1749931200-1749942000@918bathurst.com
SUMMARY:Anatolian Folk Dancers of Toronto Present: Timeless Rhythms of Anatolia
DESCRIPTION:Join us for a magical evening filled with the timeless beauty of Anatolian culture. The choir and folk dance troupe are ready to transform the Sanctuary stage with soulful solo acts\, powerful choral harmonies\, and mesmerizing rhythms you won’t forget. \nWe will also pay a heartfelt tribute to Volkan Konak with one of his beloved works. \nFor more information and tickets\, click here
URL:https://918bathurst.com/event/anatolian-folk-dancers-of-toronto-present-timeless-rhythms-of-anatolia/
LOCATION:918 Bathurst: Culture\, Arts\, Media & Education\, 918 Bathurst Street\, Toronto\, ON\, M5R 3G5\, Canada
CATEGORIES:Event,Featured Event
ATTACH;FMTTYPE=image/jpeg:https://918bathurst.com/wp-content/uploads/2025/05/BORA607983124_8479886778861514663_n.jpg
END:VEVENT
END:VCALENDAR