BEGIN:VCALENDAR
VERSION:2.0
PRODID:-//918 Bathurst - ECPv6.15.20//NONSGML v1.0//EN
CALSCALE:GREGORIAN
METHOD:PUBLISH
X-WR-CALNAME:918 Bathurst
X-ORIGINAL-URL:https://918bathurst.com
X-WR-CALDESC:Events for 918 Bathurst
REFRESH-INTERVAL;VALUE=DURATION:PT1H
X-Robots-Tag:noindex
X-PUBLISHED-TTL:PT1H
BEGIN:VTIMEZONE
TZID:UTC
BEGIN:STANDARD
TZOFFSETFROM:+0000
TZOFFSETTO:+0000
TZNAME:UTC
DTSTART:20240101T000000
END:STANDARD
END:VTIMEZONE
BEGIN:VEVENT
DTSTART;TZID=UTC:20250513T200000
DTEND;TZID=UTC:20250513T220000
DTSTAMP:20260420T163042
CREATED:20250501T192500Z
LAST-MODIFIED:20250501T192500Z
UID:19207-1747166400-1747173600@918bathurst.com
SUMMARY:The Music Gallery Presents: What Is: Heartbreak
DESCRIPTION:This is the first night of What Is: heart(break) presented by The Music Gallery.  1:11 moonwatching dives deep into luminescent moonlit midnight pools exploring the full scope of the human voice accompanied by electronics\, foley\, and found sounds diffusing the night’s air in 6.2 surround sound. \nEthereal\, avant-garde sonic textures transport us into the realm of the moon\, ruler of dreams and all wandering lovers. In the thick of pale light and dark shadows\, 1:11 moonwatching’s experimental improvisation and classical vocalism melded with visuals by Gary Kirkham remind us of moons replete with wishes and yet-to-be’s and of fateful encounters under night’s embrace. \nFor more information and tickets\, click here
URL:https://918bathurst.com/event/the-music-gallery-presents-what-is-heartbreak/
LOCATION:918 Bathurst: Culture\, Arts\, Media & Education\, 918 Bathurst Street\, Toronto\, ON\, M5R 3G5\, Canada
CATEGORIES:Event,Featured Event
ATTACH;FMTTYPE=image/jpeg:https://918bathurst.com/wp-content/uploads/2025/05/491424437_18501486619045586_7270451723396088830_n.jpg
END:VEVENT
BEGIN:VEVENT
DTSTART;TZID=UTC:20250514T120000
DTEND;TZID=UTC:20250525T170000
DTSTAMP:20260420T163042
CREATED:20250501T192037Z
LAST-MODIFIED:20250501T193419Z
UID:19193-1747224000-1748192400@918bathurst.com
SUMMARY:Spectra Presents: Gallery 44 Members Exhibition
DESCRIPTION:Spectra brings together new work by innovative members of Gallery 44 Centre for Contemporary Photography in an exhibition that represents a variety of different photographic concepts. As the name suggests the work demonstrates the many possibilities that are open to contemporary photographers and celebrates the diversity of artistic practice revealing the ways seemingly disparate work can intersect. Spectra\, a changing collective of members\, has been an active participant in CONTACT Photography Festival since its inception. \n(See full schedule for open dates) \nFor more information and tickets\, click here
URL:https://918bathurst.com/event/spectra-presents-gallery-44-members-exhibition/
LOCATION:918 Bathurst: Culture\, Arts\, Media & Education\, 918 Bathurst Street\, Toronto\, ON\, M5R 3G5\, Canada
CATEGORIES:Event,Featured Event
ATTACH;FMTTYPE=image/jpeg:https://918bathurst.com/wp-content/uploads/2025/05/https___cdn.evbuc_.com_images_1004553853_112140540091_1_original.jpeg
END:VEVENT
BEGIN:VEVENT
DTSTART;TZID=UTC:20250517T190000
DTEND;TZID=UTC:20250517T220000
DTSTAMP:20260420T163042
CREATED:20250501T192711Z
LAST-MODIFIED:20250501T192711Z
UID:19210-1747508400-1747519200@918bathurst.com
SUMMARY:The Music Gallery Presents: What Is: Heartbreak
DESCRIPTION:This is the last night of What Is: heart(break). The show proposes the dignity of endings\, clearings\, and cathartic release. Secondsight offers a live\, sonic meditation\, gently guiding us to let go and empty it out\, with the awareness that these are aspects of an intricate and never-ending cycle. Attendees can lie down and get comfy through a meditation that hovers between experimental ambient\, esoteric sound healing practices\, and spacious atmospheric textures inspired by afrosurrealism and dreamwork. \nAnd when an ending still feels unbearable\, Empty-It-Out Ensemble forms a drone orchestra punctuated by offerings by poets Jade Blair and Khashayar Mohammadi. Together\, they create moments of trance\, stillness\, and sudden breaks that transport the body to a state of levity liberated from its weights and wounds. \nBoth acts serve as a beautiful cap-off to What Is: heart(break) and remind us that even when endings suck\, they’re sometimes just what we need. \nFor more information\, click here
URL:https://918bathurst.com/event/the-music-gallery-presents-what-is-heartbreak-2/
LOCATION:918 Bathurst: Culture\, Arts\, Media & Education\, 918 Bathurst Street\, Toronto\, ON\, M5R 3G5\, Canada
ATTACH;FMTTYPE=image/png:https://918bathurst.com/wp-content/uploads/2025/05/Screen-Shot-2025-04-29-at-8.29.39-PM.png
END:VEVENT
BEGIN:VEVENT
DTSTART;TZID=UTC:20250518T160000
DTEND;TZID=UTC:20250518T200000
DTSTAMP:20260420T163042
CREATED:20250516T170904Z
LAST-MODIFIED:20250516T170904Z
UID:19232-1747584000-1747598400@918bathurst.com
SUMMARY:100th Birthday Celebration of Malcolm X
DESCRIPTION:Welcome to the 100th birthday celebration of Malcolm X! \nCome join us at 918 Bathurst St as we honor the legacy of this influential civil rights leader. This in-person event will feature guest speakers\, musical performances\, and a special exhibition highlighting Malcolm X’s life and work. \nDon’t miss this unique opportunity to commemorate a pivotal figure in history. Whether you’re a long-time admirer or just curious to learn more\, this event is sure to be both educational and inspiring. See you there!
URL:https://918bathurst.com/event/100th-birthday-celebration-of-malcolm-x/
LOCATION:918 Bathurst: Culture\, Arts\, Media & Education\, 918 Bathurst Street\, Toronto\, ON\, M5R 3G5\, Canada
CATEGORIES:Event,Featured Event
ATTACH;FMTTYPE=image/png:https://918bathurst.com/wp-content/uploads/2025/05/Screen-Shot-2025-05-16-at-1.08.09-PM.png
END:VEVENT
END:VCALENDAR