BEGIN:VCALENDAR
VERSION:2.0
PRODID:-//918 Bathurst - ECPv6.15.20//NONSGML v1.0//EN
CALSCALE:GREGORIAN
METHOD:PUBLISH
X-ORIGINAL-URL:https://918bathurst.com
X-WR-CALDESC:Events for 918 Bathurst
REFRESH-INTERVAL;VALUE=DURATION:PT1H
X-Robots-Tag:noindex
X-PUBLISHED-TTL:PT1H
BEGIN:VTIMEZONE
TZID:UTC
BEGIN:STANDARD
TZOFFSETFROM:+0000
TZOFFSETTO:+0000
TZNAME:UTC
DTSTART:20240101T000000
END:STANDARD
END:VTIMEZONE
BEGIN:VEVENT
DTSTART;TZID=UTC:20250510T190000
DTEND;TZID=UTC:20250510T230000
DTSTAMP:20260420T163230
CREATED:20250501T191345Z
LAST-MODIFIED:20250501T191345Z
UID:19187-1746903600-1746918000@918bathurst.com
SUMMARY:Brendan Philip Album Release With Special Guest: The OBGMS
DESCRIPTION:A night of ecstatic reckoning. \nToronto-based artist Brendan Philip unveils his debut album What You Fear Already Happened in a singular performance of sound\, sight\, and invocation. \nJoined by The OBGMs as his backing band\, with an opening set by the apocalyptic punk outfit Ants are Plants. \nThis is not just a concert—it’s a sermon for the sleepless. A vision for the witnesses. The stage becomes pulpit\, body becomes signal\, every song a cipher. \nVinyl and limited-edition merch available. \nFor more information and tickets\, click here
URL:https://918bathurst.com/event/brendan-philip-album-release-with-special-guest-the-obgms/
LOCATION:918 Bathurst: Culture\, Arts\, Media & Education\, 918 Bathurst Street\, Toronto\, ON\, M5R 3G5\, Canada
CATEGORIES:Event,Featured Event
ATTACH;FMTTYPE=image/jpeg:https://918bathurst.com/wp-content/uploads/2025/05/brendanphilipposter.jpg
END:VEVENT
BEGIN:VEVENT
DTSTART;TZID=UTC:20250511T180000
DTEND;TZID=UTC:20250511T230000
DTSTAMP:20260420T163230
CREATED:20250501T191743Z
LAST-MODIFIED:20250516T161546Z
UID:19190-1746986400-1747004400@918bathurst.com
SUMMARY:Innergenerational Presents: "Motherland"
DESCRIPTION:Join us for a heart-opening evening of poetry\, storytelling\, music\, comedy and healing as InnerGenerational returns to 918 Bathurst for our 2025 edition: The Motherland! \nThis special Mother’s Day event is a celebration of roots\, resilience\, and the powerful relationships we hold with our mothers\, mother tongues\, and ancestral lands. \nThe evening will feature an open mic where the community voices take the stage\, as well as intimate showcase performances. \nFor more information and tickets\, click here
URL:https://918bathurst.com/event/innergenerational-presents-motherland/
LOCATION:918 Bathurst: Culture\, Arts\, Media & Education\, 918 Bathurst Street\, Toronto\, ON\, M5R 3G5\, Canada
CATEGORIES:Event,Featured Event,Gallery
ATTACH;FMTTYPE=image/jpeg:https://918bathurst.com/wp-content/uploads/2025/05/492107823_18496993534012471_1117626323865879135_n.jpg
END:VEVENT
END:VCALENDAR