BEGIN:VCALENDAR
VERSION:2.0
PRODID:-//918 Bathurst - ECPv6.15.20//NONSGML v1.0//EN
CALSCALE:GREGORIAN
METHOD:PUBLISH
X-WR-CALNAME:918 Bathurst
X-ORIGINAL-URL:https://918bathurst.com
X-WR-CALDESC:Events for 918 Bathurst
REFRESH-INTERVAL;VALUE=DURATION:PT1H
X-Robots-Tag:noindex
X-PUBLISHED-TTL:PT1H
BEGIN:VTIMEZONE
TZID:UTC
BEGIN:STANDARD
TZOFFSETFROM:+0000
TZOFFSETTO:+0000
TZNAME:UTC
DTSTART:20240101T000000
END:STANDARD
END:VTIMEZONE
BEGIN:VEVENT
DTSTART;TZID=UTC:20250227T183000
DTEND;TZID=UTC:20250227T203000
DTSTAMP:20260420T180333
CREATED:20250131T185537Z
LAST-MODIFIED:20250131T185537Z
UID:19088-1740681000-1740688200@918bathurst.com
SUMMARY:The Music Gallery Presents: ASL for Artists
DESCRIPTION:This workshop alongside Hands on ASL attempts to bridge the language gap between hearing\, Deaf\, and Hard-of-hearing artistic communities. With a focus on art and sound ASL vocabulary\, attendees will learn ways to express equipment and staging needs with useful phrases such as: \n\n“Great job”\n“Can you make the light dimmer/ brighter”\n“Could we try that again\, but like this&hellip;”\n“Is there a green room?”\n“I like that!”\n\nHands On ASL! offers custom workshops tailored to diverse audiences\, and we are thrilled to have Courage facilitate this session. In this interactive workshop\, participants will learn basic ASL while exploring the intersection of accessibility\, art\, and theatre. Courage’s expertise as a multidisciplinary artist and advocate brings a unique perspective on how inclusive practices can transform creative spaces. Whether you’re new to ASL or seeking to enhance accessibility in your work\, this session offers valuable insights and hands-on learning.
URL:https://918bathurst.com/event/the-music-gallery-presents-asl-for-artists/
LOCATION:918 Bathurst: Culture\, Arts\, Media & Education\, 918 Bathurst Street\, Toronto\, ON\, M5R 3G5\, Canada
CATEGORIES:Event,Featured Event
ATTACH;FMTTYPE=image/jpeg:https://918bathurst.com/wp-content/uploads/2025/01/Snapinst.app_474800697_1155211223273012_6945678165029826120_n_1080.jpg
END:VEVENT
END:VCALENDAR