BEGIN:VCALENDAR
VERSION:2.0
PRODID:-//918 Bathurst - ECPv6.15.20//NONSGML v1.0//EN
CALSCALE:GREGORIAN
METHOD:PUBLISH
X-ORIGINAL-URL:https://918bathurst.com
X-WR-CALDESC:Events for 918 Bathurst
REFRESH-INTERVAL;VALUE=DURATION:PT1H
X-Robots-Tag:noindex
X-PUBLISHED-TTL:PT1H
BEGIN:VTIMEZONE
TZID:UTC
BEGIN:STANDARD
TZOFFSETFROM:+0000
TZOFFSETTO:+0000
TZNAME:UTC
DTSTART:20230101T000000
END:STANDARD
END:VTIMEZONE
BEGIN:VEVENT
DTSTART;TZID=UTC:20240825T130000
DTEND;TZID=UTC:20240825T180000
DTSTAMP:20260421T220924
CREATED:20240806T200136Z
LAST-MODIFIED:20240806T200136Z
UID:18953-1724590800-1724608800@918bathurst.com
SUMMARY:Arts at the End of August
DESCRIPTION:918 Bathurst is hosting a local Arts Market\, featuring ceramics\, prints\, paintings and tarot card readings! \nSave the date!
URL:https://918bathurst.com/event/arts-at-the-end-of-august/
LOCATION:918 Bathurst: Culture\, Arts\, Media & Education\, 918 Bathurst Street\, Toronto\, ON\, M5R 3G5\, Canada
CATEGORIES:Event,Featured Event
ATTACH;FMTTYPE=image/jpeg:https://918bathurst.com/wp-content/uploads/2024/08/Snapinsta.app_454024588_832500605689621_5255244897775582998_n_1080.jpg
END:VEVENT
END:VCALENDAR