BEGIN:VCALENDAR
VERSION:2.0
PRODID:-//918 Bathurst - ECPv6.15.20//NONSGML v1.0//EN
CALSCALE:GREGORIAN
METHOD:PUBLISH
X-ORIGINAL-URL:https://918bathurst.com
X-WR-CALDESC:Events for 918 Bathurst
REFRESH-INTERVAL;VALUE=DURATION:PT1H
X-Robots-Tag:noindex
X-PUBLISHED-TTL:PT1H
BEGIN:VTIMEZONE
TZID:UTC
BEGIN:STANDARD
TZOFFSETFROM:+0000
TZOFFSETTO:+0000
TZNAME:UTC
DTSTART:20230101T000000
END:STANDARD
END:VTIMEZONE
BEGIN:VEVENT
DTSTART;TZID=UTC:20240815T150000
DTEND;TZID=UTC:20240815T200000
DTSTAMP:20260422T023845
CREATED:20240627T164937Z
LAST-MODIFIED:20240627T184304Z
UID:18925-1723734000-1723752000@918bathurst.com
SUMMARY:TORONTO SYSTEM RESET EXPERIENCE : Breathe | Dance | Meditate | Biohack
DESCRIPTION:Ever wonder what it would be like to press “RESET” on your mind\, body & emotions? Come experience your greatest breakthrough yet! \nJoin us on August 15th for an incredible\, life-changing experience with NOA|AON’s Signature System Reset Experience. \nWe’ll be hosting an INSANE experience\, at 918 Bathurst Street at 3:00 PM for a full transformative workshop!\nHere’s what you can look forward to:\nDemos for the newest most cutting edge technology on the market for consciousness expansion\nFrequency Attunement\, Sound Healing & Meditation\nBiohacking Lecture\nMethylene Blue Activation\nSystem Reset Breathwork Journey\nNOA|AON 528Hz DJ Set\nSacred closing WishWell ceremony and sunset gazing \nThis event is super inclusive whether you’re just starting your wellness journey or you’re deep in it just looking to further your practice. \n  \n 
URL:https://918bathurst.com/event/toronto-system-reset-experience-breathe-dance-meditate-biohack-2/
LOCATION:918 Bathurst: Culture\, Arts\, Media & Education\, 918 Bathurst Street\, Toronto\, ON\, M5R 3G5\, Canada
CATEGORIES:Event,Featured Event
ATTACH;FMTTYPE=image/png:https://918bathurst.com/wp-content/uploads/2024/06/2.png
END:VEVENT
END:VCALENDAR