BEGIN:VCALENDAR
VERSION:2.0
PRODID:-//918 Bathurst - ECPv6.15.20//NONSGML v1.0//EN
CALSCALE:GREGORIAN
METHOD:PUBLISH
X-ORIGINAL-URL:https://918bathurst.com
X-WR-CALDESC:Events for 918 Bathurst
REFRESH-INTERVAL;VALUE=DURATION:PT1H
X-Robots-Tag:noindex
X-PUBLISHED-TTL:PT1H
BEGIN:VTIMEZONE
TZID:UTC
BEGIN:STANDARD
TZOFFSETFROM:+0000
TZOFFSETTO:+0000
TZNAME:UTC
DTSTART:20230101T000000
END:STANDARD
END:VTIMEZONE
BEGIN:VEVENT
DTSTART;TZID=UTC:20240618T180000
DTEND;TZID=UTC:20240618T210000
DTSTAMP:20260421T060401
CREATED:20240606T181807Z
LAST-MODIFIED:20240606T200310Z
UID:18904-1718733600-1718744400@918bathurst.com
SUMMARY:Book Launch - "Acting on You" by Lee Suksi
DESCRIPTION:You’re invited to the launch of Acting On You\, a book of drawings of people acting on other people\, published with Fine Period Press. The launch will take place in The Sun Room (to the left of the Sanctuary on the main floor\, follow the signs) on June 18.\n\nDROP IN FROM 5:30 TO 9 PM\n\nDylan McShane and Lee Suksi will be doing live life modelling gesture drawings between 6 and 8.\n\nDrawing is free! Some drawing materials will be provided! All levels – and ages – welcome!\n\nCome and see the drawings\, the book\, and do some drawing too!\n\nCan’t make it out? The book is available for order from Vancouver through fine. press’ website: https://www.fineperiodpress.com/product/acting-on-you/\nand at a bookstore near you soon.
URL:https://918bathurst.com/event/acting-on-you-book-launch/
LOCATION:918 Bathurst: Culture\, Arts\, Media & Education\, 918 Bathurst Street\, Toronto\, ON\, M5R 3G5\, Canada
CATEGORIES:Event,Featured Event
ATTACH;FMTTYPE=image/png:https://918bathurst.com/wp-content/uploads/2024/06/thumbnail_actingonyou.png
END:VEVENT
BEGIN:VEVENT
DTSTART;TZID=UTC:20240620T190000
DTEND;TZID=UTC:20240620T230000
DTSTAMP:20260421T060401
CREATED:20240605T185832Z
LAST-MODIFIED:20240605T185832Z
UID:18897-1718910000-1718924400@918bathurst.com
SUMMARY:Spurs Night: One-Year Anniversary Party
DESCRIPTION:Come celebrate one year of SPURS with a proper party! \nNo lessons\, just dancing all night! Every line dance ever taught at SPURS! \nMerch! Drinks! Special performances! \nNO DOOR TICKETS \nFor more information\, and to purchase tickets\, click here!
URL:https://918bathurst.com/event/spurs-night-one-year-anniversary-party/
LOCATION:918 Bathurst: Culture\, Arts\, Media & Education\, 918 Bathurst Street\, Toronto\, ON\, M5R 3G5\, Canada
CATEGORIES:Event,Featured Event
ATTACH;FMTTYPE=image/jpeg:https://918bathurst.com/wp-content/uploads/2024/06/Snapinsta.app_446501114_768011582145225_4911535962941578145_n_1080.jpg
END:VEVENT
BEGIN:VEVENT
DTSTART;TZID=UTC:20240621T193000
DTEND;TZID=UTC:20240621T220000
DTSTAMP:20260421T060401
CREATED:20240605T190033Z
LAST-MODIFIED:20240605T190055Z
UID:18900-1718998200-1719007200@918bathurst.com
SUMMARY:The Music Gallery Presents: You In Mind
DESCRIPTION:From the Music Gallery: \nExploring the relationship between visceral and cerebral ÏÏÏ (yiyiyi) build a dynamic that explores timbre\, rhythm\, and texture.\nNoise music as a consciously developed idea is a byproduct of an environment filled with human activity. \nOpening the night we bring back artist Khôra who will perform their new album\, Gestures of Perception\, alongside their handspun visuals. \nFor more information\, and to purchase tickets\, click here!
URL:https://918bathurst.com/event/the-music-gallery-presents-you-in-mind/
LOCATION:918 Bathurst: Culture\, Arts\, Media & Education\, 918 Bathurst Street\, Toronto\, ON\, M5R 3G5\, Canada
CATEGORIES:Event,Featured Event
ATTACH;FMTTYPE=image/jpeg:https://918bathurst.com/wp-content/uploads/2024/06/You-In-Mind-2024-2-768x768-1.jpeg
END:VEVENT
END:VCALENDAR