BEGIN:VCALENDAR
VERSION:2.0
PRODID:-//918 Bathurst - ECPv6.15.20//NONSGML v1.0//EN
CALSCALE:GREGORIAN
METHOD:PUBLISH
X-WR-CALNAME:918 Bathurst
X-ORIGINAL-URL:https://918bathurst.com
X-WR-CALDESC:Events for 918 Bathurst
REFRESH-INTERVAL;VALUE=DURATION:PT1H
X-Robots-Tag:noindex
X-PUBLISHED-TTL:PT1H
BEGIN:VTIMEZONE
TZID:UTC
BEGIN:STANDARD
TZOFFSETFROM:+0000
TZOFFSETTO:+0000
TZNAME:UTC
DTSTART:20230101T000000
END:STANDARD
END:VTIMEZONE
BEGIN:VEVENT
DTSTART;TZID=UTC:20240530T181500
DTEND;TZID=UTC:20240530T220000
DTSTAMP:20260420T040718
CREATED:20240423T162056Z
LAST-MODIFIED:20240423T162056Z
UID:18828-1717092900-1717106400@918bathurst.com
SUMMARY:Mapping Futures
DESCRIPTION:Join Mapping Futures in Toronto for their second annual live event and podcast recording that focuses on helping young Canadians navigate the current economy and build financial resilience. Young people entering adulthood are facing unique and complex challenges that intersect with their mental health\, and our panel and co-hosts Asante Haughton and Abbigale Kernya will take a deep dive into the issues. \n​The ‘pre-podcast’ party event will feature music\, amazing food by our caterer Aangen\, socializing\, interactive stations\, and our special guest financial therapist Aseel El-Baba. \nGet tickets here!
URL:https://918bathurst.com/event/mapping-futures-2/
LOCATION:918 Bathurst: Culture\, Arts\, Media & Education\, 918 Bathurst Street\, Toronto\, ON\, M5R 3G5\, Canada
CATEGORIES:Event,Featured Event
ATTACH;FMTTYPE=image/jpeg:https://918bathurst.com/wp-content/uploads/2024/04/Mappingannounce24.jpeg
END:VEVENT
END:VCALENDAR