BEGIN:VCALENDAR
VERSION:2.0
PRODID:-//918 Bathurst - ECPv6.15.20//NONSGML v1.0//EN
CALSCALE:GREGORIAN
METHOD:PUBLISH
X-WR-CALNAME:918 Bathurst
X-ORIGINAL-URL:https://918bathurst.com
X-WR-CALDESC:Events for 918 Bathurst
REFRESH-INTERVAL;VALUE=DURATION:PT1H
X-Robots-Tag:noindex
X-PUBLISHED-TTL:PT1H
BEGIN:VTIMEZONE
TZID:UTC
BEGIN:STANDARD
TZOFFSETFROM:+0000
TZOFFSETTO:+0000
TZNAME:UTC
DTSTART:20230101T000000
END:STANDARD
END:VTIMEZONE
BEGIN:VEVENT
DTSTART;TZID=UTC:20240507T200000
DTEND;TZID=UTC:20240507T220000
DTSTAMP:20260420T022827
CREATED:20240425T161619Z
LAST-MODIFIED:20240425T161938Z
UID:18850-1715112000-1715119200@918bathurst.com
SUMMARY:Thin Edge Presents: ChamberDestroy (Co-presented by Music Gallery)
DESCRIPTION:About: \nChamberDestroy is co-produced by The Music Gallery and connects contemporary music ensembles from two of Canada’s largest cultural centres with one common artistic goal. Ensemble Paramirabo-EP (Montreal) and Thin Edge New Music Collective – TENMC (Tkarón:to/Toronto) reunite on the heels of a highly successful joint touring/recording project (2015 and 2018)\, to premiere Nicole Lizée’s ChamberVania (AKA ChamberDestroy\, FKA ChamberKill) for double sextet\, soundtrack and video and Datura for double sextet and video by Yaz Lancaster (USA) alongside\, Louis Andriessen’s seminal Workers Union and Julius Eastman’s Joy Boy for unspecified ensemble. \nMontreal-based Nicole Lizée is one of Canada’s most sought after and imaginative composers. Her instantly recognizable musical language ingeniously marries elements of contemporary music with technology\, popular culture and visuals. Nicole’s rhythmically propulsive new work explores ephemera\, idioms\, and connotations of early video game culture. The 8-bit world infiltrates the chamber ensemble world as instruments assume 8-bit and pixelated characteristics. Sections of the work are duel/battle-based music: ensemble vs ensemble. Puzzles need to be completed\, levels are attained\, 2D and 3D music are both expressed on screen via graphics and in the ensemble writing and alterations to instruments. The ensembles performs on custom-made instruments to evoke the infiltration through the 4th/5th wall into the chamber music world. \nYaz Lancaster is a transdisciplinary artist based in NYC. They are most interested in practices aligned with relational aesthetics & the everyday; fragments & collage; and liberatory politics. Their work is presented in many different mediums & collaborative projects\, and often reckons with specific influences ranging from politics of identity & liberation to natural phenomena and poetics. \nLouis Andriessen’s experimental compositional style developed as a rebellion against postwar serialist traditions prevalent in Europe during his formative years. Worker’s Union (1975) is an indeterminate piece ‘for any loud sounding group of instruments’. Driven by aggressive\, machine-like rhythmic precision\, Andriessen believes that “only in the case that every player plays with such an intention that his part is an essential one\, will the work succeed; just as in the political work.” TENMC and EP are revisiting this powerful composition\, which featured prominently on their joint album ‘Raging Against the Machine’ (2015 Redshift Records)\, in honour of Andriessen’s recent passing. \nJoy Boy (1974) by visionary American minimalist composer/performer Julius Eastman\, is written for open instrumentation\, and includes elements of improvisation within the framework of a set harmonic structure. Joy Boy’s shimmering harmonic textures carry listeners and performers alike along for an ecstatic sonic journey. \nDoors: 7:30pm\nShow Starts: 8:00pm \nTickets: General $25\,PWYCA $10 +\, Music Gallery Members $10 \nBuy Tickets here! \n 
URL:https://918bathurst.com/event/18850/
LOCATION:918 Bathurst: Culture\, Arts\, Media & Education\, 918 Bathurst Street\, Toronto\, ON\, M5R 3G5\, Canada
CATEGORIES:Event,Featured Event
ATTACH;FMTTYPE=image/png:https://918bathurst.com/wp-content/uploads/2024/04/Screen-Shot-2024-04-25-at-12.10.05-PM.png
END:VEVENT
BEGIN:VEVENT
DTSTART;TZID=UTC:20240509T200000
DTEND;TZID=UTC:20240509T220000
DTSTAMP:20260420T022827
CREATED:20240412T192446Z
LAST-MODIFIED:20240412T192446Z
UID:18819-1715284800-1715292000@918bathurst.com
SUMMARY:What Is: Spirituality  As Connection
DESCRIPTION:Sound buzzes around the venue\, crawls up the walls\, and explores sonic movement. \nSound is a sensory object. We use its waves\, frequencies\, particles to explore our bodies\, unlock memories\, and learn about what it means to be human.\nKicking off our first day of programming\, sound is explored in three parts. The first\, a vibrotactile sound installation created by Leon Louder in partnership with VibraFusionLab. This multi-day installation brings the Montreal Insectarium to life\, with whirring sounds that can be felt and heard.\nIn the main hall ASMR and hypnosis artist Erin Gee explore the subtleties of music and sensation in her performance. This is followed by Oakland based artist\, Amma Ateria who will be presenting a neurological-centered\, psycho acoustic performance titled CONCUSSSSION\, a work created to help herself heal from a life altering injury. \nThursday\, May 9\, 2024\nStarts 8 PM\nDoors 7:30 PM
URL:https://918bathurst.com/event/what-is-spirituality-as-connection/
LOCATION:918 Bathurst: Culture\, Arts\, Media & Education\, 918 Bathurst Street\, Toronto\, ON\, M5R 3G5\, Canada
CATEGORIES:Event,Featured Event
ATTACH;FMTTYPE=image/jpeg:https://918bathurst.com/wp-content/uploads/2024/04/What-is-May-9-768x768-1.jpeg
END:VEVENT
BEGIN:VEVENT
DTSTART;TZID=UTC:20240510T190000
DTEND;TZID=UTC:20240510T193000
DTSTAMP:20260420T022827
CREATED:20240412T192218Z
LAST-MODIFIED:20240412T192218Z
UID:18816-1715367600-1715369400@918bathurst.com
SUMMARY:What Is: Spirituality As Laughter (Movement)
DESCRIPTION:Laughter fills our sanctuary room as we welcome back Laraaji.\nLaughter is one of the most healing sounds known to humankind. In listening we can find joy\, camaraderie and release. In the doing\, our lungs and organs fill with oxygen\, our stress dissipates.\nOn this day of creating community connection and sharing big laughs\, we are so happy to invite Laraaji who returns to the Music Gallery after 10 years. Starting the evening off with a laughter yoga course (7:00 pm) alongside long time collaborator Arji OceAnanda\, the night will continue (8:30 pm) into a sonic cuddle puddle of sound bath administered by Laraaji and Arji\, alongside longtime Music Gallery family\, New Chance with her new project Peaceful Mind. \nThe sound bath portion of the evening will be visually accompanied by the work of Charline Dally.
URL:https://918bathurst.com/event/what-is-spirituality-as-laughter-movement/
LOCATION:918 Bathurst: Culture\, Arts\, Media & Education\, 918 Bathurst Street\, Toronto\, ON\, M5R 3G5\, Canada
CATEGORIES:Event,Featured Event
ATTACH;FMTTYPE=image/jpeg:https://918bathurst.com/wp-content/uploads/2024/04/What-is-May-10-768x768-2.jpeg
END:VEVENT
BEGIN:VEVENT
DTSTART;TZID=UTC:20240510T203000
DTEND;TZID=UTC:20240510T223000
DTSTAMP:20260420T022827
CREATED:20240412T191940Z
LAST-MODIFIED:20240412T191940Z
UID:18813-1715373000-1715380200@918bathurst.com
SUMMARY:What Is: Spirituality  As Laughter (Sound Bath)
DESCRIPTION:Laughter fills our sanctuary room as we welcome back Laraaji.\nLaughter is one of the most healing sounds known to humankind. In listening we can find joy\, camaraderie and release. In the doing\, our lungs and organs fill with oxygen\, our stress dissipates.\nOn this day of creating community connection and sharing big laughs\, we are so happy to invite Laraaji who returns to the Music Gallery after 10 years. Starting the evening off with a laughter yoga course (7:00 pm) alongside long time collaborator Arji OceAnanda\, the night will continue (8:30 pm) into a sonic cuddle puddle of sound bath administered by Laraaji and Arji\, alongside longtime Music Gallery family\, New Chance with her new project Peaceful Mind. \nThe sound bath portion of the evening will be visually accompanied by the work of Charline Dally. \nFriday\, May 10\, 2024\nStarts 8:30 PM
URL:https://918bathurst.com/event/what-is-spirituality-as-laughter-sound-bath/
LOCATION:918 Bathurst: Culture\, Arts\, Media & Education\, 918 Bathurst Street\, Toronto\, ON\, M5R 3G5\, Canada
CATEGORIES:Event,Featured Event
ATTACH;FMTTYPE=image/jpeg:https://918bathurst.com/wp-content/uploads/2024/04/What-is-May-10-768x768-1.jpeg
END:VEVENT
BEGIN:VEVENT
DTSTART;TZID=UTC:20240511T193000
DTEND;TZID=UTC:20240511T223000
DTSTAMP:20260420T022827
CREATED:20240412T191727Z
LAST-MODIFIED:20240412T191727Z
UID:18810-1715455800-1715466600@918bathurst.com
SUMMARY:What Is: Spirituality As Sharing
DESCRIPTION:The beloved album 10 Ragas to a Disco Beat is reimagined.\nOur sanctuary space is transformed to a tea salon of dreams. Come lounge at the Music Gallery and drink some cha/chai as artists of many modalities take over the main hall in an ode to experimentation.\nCome lounge at the Music Gallery and drink some tea with some of the city’s best and brightest improvisers. \nSaturday\, May 11\, 2024\nStarts 8 PM\nDoors 7:30 PM
URL:https://918bathurst.com/event/what-is-spirituality-as-sharing/
LOCATION:918 Bathurst: Culture\, Arts\, Media & Education\, 918 Bathurst Street\, Toronto\, ON\, M5R 3G5\, Canada
CATEGORIES:Event,Featured Event
ATTACH;FMTTYPE=image/jpeg:https://918bathurst.com/wp-content/uploads/2024/04/What-is-May-11-768x768-1.jpeg
END:VEVENT
END:VCALENDAR