BEGIN:VCALENDAR
VERSION:2.0
PRODID:-//918 Bathurst - ECPv6.15.20//NONSGML v1.0//EN
CALSCALE:GREGORIAN
METHOD:PUBLISH
X-WR-CALNAME:918 Bathurst
X-ORIGINAL-URL:https://918bathurst.com
X-WR-CALDESC:Events for 918 Bathurst
REFRESH-INTERVAL;VALUE=DURATION:PT1H
X-Robots-Tag:noindex
X-PUBLISHED-TTL:PT1H
BEGIN:VTIMEZONE
TZID:UTC
BEGIN:STANDARD
TZOFFSETFROM:+0000
TZOFFSETTO:+0000
TZNAME:UTC
DTSTART:20230101T000000
END:STANDARD
END:VTIMEZONE
BEGIN:VEVENT
DTSTART;TZID=UTC:20240501T180000
DTEND;TZID=UTC:20240501T210000
DTSTAMP:20260419T162314
CREATED:20240425T162800Z
LAST-MODIFIED:20240425T162800Z
UID:18854-1714586400-1714597200@918bathurst.com
SUMMARY:ResilienTOgether Concert & Exhibit
DESCRIPTION:Join us for a night of music\, art\, and community. Come together with fellow resilient individuals as we celebrate strength and unity through creativity. The event kicks off at 6:00 PM so be sure to arrive early to secure your spot. Let’s come together and show that we are stronger when we stand TOgether! \nFeaturing an exciting lineup of talented performers\, including Fafiella\, Melo\, Gabe & 4sante\, alongside a captivating art exhibit showcasing the work of 15 emerging artists and 7 commissioned pieces by Toronto Visual Artists Sarah Okello\, Ehiko\, Indica Cornish\, Kajaea\, Shanice Edwards\, Abigail Wedderburn\, and Chinelo Yasin. \nOur headliner for the night is the sensational KIBRA\, promising to deliver an electrifying performance! \nSetting the mood with funky beats will be DJ Sekii\, while the evening’s festivities will be expertly hosted by the charismatic GLO. \nBring your friends and family to support our talented artists and experience a vibrant showcase of talent. \nTo add to the excitement\, we’ll have snacks and refreshments available throughout the event. \n 
URL:https://918bathurst.com/event/resilientogether-concert-exhibit/
LOCATION:918 Bathurst: Culture\, Arts\, Media & Education\, 918 Bathurst Street\, Toronto\, ON\, M5R 3G5\, Canada
CATEGORIES:Event,Featured Event
ATTACH;FMTTYPE=image/jpeg:https://918bathurst.com/wp-content/uploads/2024/04/https___cdn.evbuc_.com_images_750776929_560578932099_1_original.jpeg
END:VEVENT
BEGIN:VEVENT
DTSTART;TZID=UTC:20240502T200000
DTEND;TZID=UTC:20240502T230000
DTSTAMP:20260419T162314
CREATED:20240425T164241Z
LAST-MODIFIED:20240425T165242Z
UID:18861-1714680000-1714690800@918bathurst.com
SUMMARY:Fan Wu's Album Launch: Touch The Ten Thousand Things without Dependency LP
DESCRIPTION:Album launch for Fan Wu’s touch The Ten Thousand Things without dependency LP\, featuring a three-ring “stacked solos” drone/poetry continuum by Fan @abolishedbauble \, Matt @princenifty (Prince Nifty) and Victoria @vicsanointedfavourites (New Chance). The performance will take place Thursday May 2nd\, 8pm. \nThe album was created in Vernon two winters ago with a rotating host of collaborators. It is a document of an early process experimenting with infusing Daoist cosmologies into our Western milieu. We cultivate a space of contemplation under the shade of Zhuangzi’s “useless tree” where we channel the full force of our protoplasmic shapeshift. \nGet tickets here! \n  \n 
URL:https://918bathurst.com/event/18861/
LOCATION:918 Bathurst: Culture\, Arts\, Media & Education\, 918 Bathurst Street\, Toronto\, ON\, M5R 3G5\, Canada
CATEGORIES:Event,Featured Event
ATTACH;FMTTYPE=image/jpeg:https://918bathurst.com/wp-content/uploads/2024/04/Snapinsta.app_439001017_323633423761077_100792870179709669_n_1080.jpg
END:VEVENT
BEGIN:VEVENT
DTSTART;TZID=UTC:20240503T150000
DTEND;TZID=UTC:20240503T203000
DTSTAMP:20260419T162314
CREATED:20240425T163519Z
LAST-MODIFIED:20240425T163519Z
UID:18858-1714748400-1714768200@918bathurst.com
SUMMARY:Branded Youth Entrepreneurship Conference 2024
DESCRIPTION:Get ready for a jam-packed day of learning\, networking\, and inspiration at the Branded Youth Entrepreneurship Conference 2024! \nThere is no other youth conference where you can get professional photos of your product or headshots\, coaching from marketing experts\, meet business professionals from across the GTA\, hear inspiring speakers\, and network with other young professionals. \nSince 2012\, Branded has given Black\, Newcomer and Most-Vulnerable-Person (MVP) youth real tools to build their businesses. Through our model of group consultations\, and our annual Pitch Competition\, Branded has provided over $100\,000 in funding to Youth entrepreneurs across the GTA \nBuy tickets here!
URL:https://918bathurst.com/event/branded-youth-entrepreneurship-conference-2024/
LOCATION:918 Bathurst: Culture\, Arts\, Media & Education\, 918 Bathurst Street\, Toronto\, ON\, M5R 3G5\, Canada
CATEGORIES:Event,Featured Event
ATTACH;FMTTYPE=image/jpeg:https://918bathurst.com/wp-content/uploads/2024/04/https___cdn.evbuc_.com_images_749441949_2088819756613_1_original.jpeg
END:VEVENT
END:VCALENDAR