BEGIN:VCALENDAR
VERSION:2.0
PRODID:-//918 Bathurst - ECPv6.15.20//NONSGML v1.0//EN
CALSCALE:GREGORIAN
METHOD:PUBLISH
X-ORIGINAL-URL:https://918bathurst.com
X-WR-CALDESC:Events for 918 Bathurst
REFRESH-INTERVAL;VALUE=DURATION:PT1H
X-Robots-Tag:noindex
X-PUBLISHED-TTL:PT1H
BEGIN:VTIMEZONE
TZID:UTC
BEGIN:STANDARD
TZOFFSETFROM:+0000
TZOFFSETTO:+0000
TZNAME:UTC
DTSTART:20230101T000000
END:STANDARD
END:VTIMEZONE
BEGIN:VEVENT
DTSTART;TZID=UTC:20240404T190000
DTEND;TZID=UTC:20240404T230000
DTSTAMP:20260419T145204
CREATED:20240312T185140Z
LAST-MODIFIED:20240312T195053Z
UID:18778-1712257200-1712271600@918bathurst.com
SUMMARY:Salsa For A Cause
DESCRIPTION:Salsa For A Cause is an initiative driven by an enthusiatic group of students from Humber College united in a common goal—! Get ready to dance the night away for a good cause! \nJoin us on Thursday\, April 4th\, 2024 at 7:00 PM! By just buying a ticket\, not only you secured a spot on the dance floor\, but also support Humber College Scholarships and create a meaningful impact towards the fight against cancer. We have joined forces to raise funds for The Princess Margaret Cancer Foundation\, funding one of the top 5 cancer research centres in the world. \nPlease note that the tickets do not include drinks or food\, but they’re a great way to enjoy the music\, atmosphere\, meet new people\, and the energy of our amazing venue! Don’t miss out on a night of fun and dancing. Get your tickets today!
URL:https://918bathurst.com/event/salsa-for-a-cause/
LOCATION:918 Bathurst: Culture\, Arts\, Media & Education\, 918 Bathurst Street\, Toronto\, ON\, M5R 3G5\, Canada
CATEGORIES:Event,Featured Event
ATTACH;FMTTYPE=image/jpeg:https://918bathurst.com/wp-content/uploads/2024/03/Salsaforacause.jpeg
END:VEVENT
BEGIN:VEVENT
DTSTART;TZID=UTC:20240405T200000
DTEND;TZID=UTC:20240405T230000
DTSTAMP:20260419T145204
CREATED:20240308T213922Z
LAST-MODIFIED:20240308T214152Z
UID:18770-1712347200-1712358000@918bathurst.com
SUMMARY:F for Feria
DESCRIPTION:The F for Flamenco festival by FabCollab brings top international flamenco singers\, dancers\, guitarists and percussionists to Toronto and puts them onstage with the best in Canadian flamenco. \nF for Feria presents the award-winning dancer Isaac Tovar (Seville) with a cast of international and Canadian stars in a performance that pays homage to spring\, rebirth\, and the fun-filled traditional Sevilla spring fair known as La Feria. \nDance: Isaac Tovar (Seville)\, Laura Peralta (New York)\, Alison MacDonald (Toronto)\nVoice: Bárbara Martinez (New York)\, Shirley ‘La Pili’ Pincay (Toronto)\nGuitar: Nicolás Hernández (Toronto)\, Benjamin Barrile (Toronto)\nPercussion: Nasrine Rahmani (Madrid)
URL:https://918bathurst.com/event/f-for-feria/
LOCATION:918 Bathurst: Culture\, Arts\, Media & Education\, 918 Bathurst Street\, Toronto\, ON\, M5R 3G5\, Canada
CATEGORIES:Event,Featured Event
ATTACH;FMTTYPE=image/png:https://918bathurst.com/wp-content/uploads/2024/03/FFF-Website-Asset-FabCollab.png
END:VEVENT
END:VCALENDAR