BEGIN:VCALENDAR
VERSION:2.0
PRODID:-//918 Bathurst - ECPv6.15.20//NONSGML v1.0//EN
CALSCALE:GREGORIAN
METHOD:PUBLISH
X-ORIGINAL-URL:https://918bathurst.com
X-WR-CALDESC:Events for 918 Bathurst
REFRESH-INTERVAL;VALUE=DURATION:PT1H
X-Robots-Tag:noindex
X-PUBLISHED-TTL:PT1H
BEGIN:VTIMEZONE
TZID:UTC
BEGIN:STANDARD
TZOFFSETFROM:+0000
TZOFFSETTO:+0000
TZNAME:UTC
DTSTART:20220101T000000
END:STANDARD
END:VTIMEZONE
BEGIN:VEVENT
DTSTART;TZID=UTC:20230622T200000
DTEND;TZID=UTC:20230622T230000
DTSTAMP:20260419T181858
CREATED:20230602T200606Z
LAST-MODIFIED:20230905T180854Z
UID:18557-1687464000-1687474800@918bathurst.com
SUMMARY:Thin Edge New Music Collective Presents: REVERB II
DESCRIPTION:We are beyond excited to announce REVERB II . This is the 2nd edition of Reverb\, the final in-person concert of TENMC’s 2022/2023 season. The programme will showcase works by Romain Camiolo (Montreal)\, Nasim Khorassani (Iran)\, Bekah Simms (UK/CA) and the late Jocelyn Morlock (CA). Alongside world premieres by Luke Nickel (UK/CA)\, and Devon Osamu Tipp (USA). \nTo purchase tickets\, follow this link.
URL:https://918bathurst.com/event/thin-edge-new-music-collective-presents-reverb-ii/
LOCATION:918 Bathurst: Culture\, Arts\, Media & Education\, 918 Bathurst Street\, Toronto\, ON\, M5R 3G5\, Canada
CATEGORIES:Event
ATTACH;FMTTYPE=image/jpeg:https://918bathurst.com/wp-content/uploads/2023/06/348868843_805381350698090_3644035503984746450_n.jpeg
END:VEVENT
END:VCALENDAR