BEGIN:VCALENDAR
VERSION:2.0
PRODID:-//918 Bathurst - ECPv6.15.20//NONSGML v1.0//EN
CALSCALE:GREGORIAN
METHOD:PUBLISH
X-WR-CALNAME:918 Bathurst
X-ORIGINAL-URL:https://918bathurst.com
X-WR-CALDESC:Events for 918 Bathurst
REFRESH-INTERVAL;VALUE=DURATION:PT1H
X-Robots-Tag:noindex
X-PUBLISHED-TTL:PT1H
BEGIN:VTIMEZONE
TZID:UTC
BEGIN:STANDARD
TZOFFSETFROM:+0000
TZOFFSETTO:+0000
TZNAME:UTC
DTSTART:20220101T000000
END:STANDARD
END:VTIMEZONE
BEGIN:VEVENT
DTSTART;TZID=UTC:20230614T080000
DTEND;TZID=UTC:20230614T230000
DTSTAMP:20260420T064553
CREATED:20230602T195326Z
LAST-MODIFIED:20230602T202944Z
UID:18548-1686729600-1686783600@918bathurst.com
SUMMARY:The Music Gallery Presents: Jairus Sharif
DESCRIPTION:For the final Emergents show of the year\, we delve into the expressive energy of freely improvised sound. \nMohkinstsis/Calgary-based multi-instrumentalist\, improviser\, composer and producer Jairus Sharif creates music that deals with healing\, self-understanding\, and personal freedom\, forging connections between hip-hop abstraction\, mysticism\, and outsider jazz. Following the fall 2022 release of his latest album Water & Tools\, Sharif will join the Music Gallery for an improvised set alongside Edmonton-based fellow sonic explorer Mustafa Rafiq\, navigating themes generated by the duo. \nOpening the evening are local improvisers Marilyn Yogarajah\, Subsume\, and Adrian Russouw\, performing together as a trio for the very first time in a freely-improvised set for trumpet\, bass\, and live electronics.” \nThe event is all ages and you can purchase tickets here.
URL:https://918bathurst.com/event/the-music-gallery-presents-jairus-sharif/
LOCATION:918 Bathurst: Culture\, Arts\, Media & Education\, 918 Bathurst Street\, Toronto\, ON\, M5R 3G5\, Canada
CATEGORIES:Event,Featured Event
ATTACH;FMTTYPE=image/png:https://918bathurst.com/wp-content/uploads/2023/06/8a970a5c-9d57-4911-9b2a-7c63f1960c35.png
END:VEVENT
BEGIN:VEVENT
DTSTART;TZID=UTC:20230616T200000
DTEND;TZID=UTC:20230616T230000
DTSTAMP:20260420T064553
CREATED:20230602T195749Z
LAST-MODIFIED:20230602T203217Z
UID:18551-1686945600-1686956400@918bathurst.com
SUMMARY:The Music Gallery and You In Mind Presents: Cichorium
DESCRIPTION:The Music Gallery and You In Mind Presents: Duo Cichorium \nFrom Music Gallery: \nDuo Cichorium synthesize their artistic and musical values to present their self-curated concert\, Elemental. The performance centers on themes of connection to oneself\, to each other\, to technology\, and to nature. The first half features a wide variety of compositions\, spanning from theatrical improvisation to intimate chamber works. Following intermission is the world premier of Elemental Suite\, a four-movement extravaganza co-composed by Jasmine Tsui and Louis Pino for percussion\, custom electronics\, and visual art. \nThis event is all ages and you can purchase tickets here.
URL:https://918bathurst.com/event/duo-cichorium/
LOCATION:918 Bathurst: Culture\, Arts\, Media & Education\, 918 Bathurst Street\, Toronto\, ON\, M5R 3G5\, Canada
CATEGORIES:Event,Featured Event
ATTACH;FMTTYPE=image/png:https://918bathurst.com/wp-content/uploads/2023/06/3bf8cfba-b77f-471d-8caf-4558e64e63b8.png
END:VEVENT
BEGIN:VEVENT
DTSTART;TZID=UTC:20230618T160000
DTEND;TZID=UTC:20230618T230000
DTSTAMP:20260420T064553
CREATED:20230602T200328Z
LAST-MODIFIED:20230602T203125Z
UID:18554-1687104000-1687129200@918bathurst.com
SUMMARY:Forro For All Presents: 10 Year Anniversary Party
DESCRIPTION:Come and join Forra For All for a night of celebration as they commemorate the 10-year anniversary of their beloved forró dance community: Forró For All! \nForro For All has come a long way since their humble beginnings\, and are excited to share this milestone with all their friends\, family\, and fellow dancers. In keeping with the spirit of forró and their Brazilian roots\, get ready for an arraiá party filled with lively music\, delicious food and drinks\, and of course\, plenty of dancing! This celebration will feature live music from Pernambahia\, a talented local band that will keep you moving all night long. \nIf you’d like to participate in the festivities\, you can purchase tickets and get more information here.
URL:https://918bathurst.com/event/forro-for-all-presents-10-year-anniversary-party/
LOCATION:918 Bathurst: Culture\, Arts\, Media & Education\, 918 Bathurst Street\, Toronto\, ON\, M5R 3G5\, Canada
CATEGORIES:Event,Featured Event
ATTACH;FMTTYPE=image/png:https://918bathurst.com/wp-content/uploads/2023/06/forroforall.png
END:VEVENT
END:VCALENDAR