BEGIN:VCALENDAR
VERSION:2.0
PRODID:-//918 Bathurst - ECPv6.15.20//NONSGML v1.0//EN
CALSCALE:GREGORIAN
METHOD:PUBLISH
X-ORIGINAL-URL:https://918bathurst.com
X-WR-CALDESC:Events for 918 Bathurst
REFRESH-INTERVAL;VALUE=DURATION:PT1H
X-Robots-Tag:noindex
X-PUBLISHED-TTL:PT1H
BEGIN:VTIMEZONE
TZID:UTC
BEGIN:STANDARD
TZOFFSETFROM:+0000
TZOFFSETTO:+0000
TZNAME:UTC
DTSTART:20220101T000000
END:STANDARD
END:VTIMEZONE
BEGIN:VEVENT
DTSTART;TZID=UTC:20230609T200000
DTEND;TZID=UTC:20230609T230000
DTSTAMP:20260420T052158
CREATED:20230602T194704Z
LAST-MODIFIED:20230602T202835Z
UID:18545-1686340800-1686351600@918bathurst.com
SUMMARY:The Music Gallery & Continuum Co-Present: Spore Wind
DESCRIPTION:From Music Gallery: \n“Electric grit meets apocalyptic folk in this multimedia event with a world premiere by co-curator Bekah Simms. Solo Jaw-Harpist chik white joins audiovisual artist Dan Tapper to explore the disintegration of sound. Also featured in pre-concert is the 7th annual Teen Composer Award at 7:45PM.” \nThe event is All Ages and you can purchase tickets here.
URL:https://918bathurst.com/event/spore-wind/
LOCATION:918 Bathurst: Culture\, Arts\, Media & Education\, 918 Bathurst Street\, Toronto\, ON\, M5R 3G5\, Canada
CATEGORIES:Event,Featured Event
ATTACH;FMTTYPE=image/png:https://918bathurst.com/wp-content/uploads/2023/06/a90d8aa0-b771-4069-9e60-482519124546.png
END:VEVENT
END:VCALENDAR