BEGIN:VCALENDAR
VERSION:2.0
PRODID:-//918 Bathurst - ECPv6.15.20//NONSGML v1.0//EN
CALSCALE:GREGORIAN
METHOD:PUBLISH
X-ORIGINAL-URL:https://918bathurst.com
X-WR-CALDESC:Events for 918 Bathurst
REFRESH-INTERVAL;VALUE=DURATION:PT1H
X-Robots-Tag:noindex
X-PUBLISHED-TTL:PT1H
BEGIN:VTIMEZONE
TZID:UTC
BEGIN:STANDARD
TZOFFSETFROM:+0000
TZOFFSETTO:+0000
TZNAME:UTC
DTSTART:20220101T000000
END:STANDARD
END:VTIMEZONE
BEGIN:VEVENT
DTSTART;TZID=UTC:20230506T170000
DTEND;TZID=UTC:20230506T220000
DTSTAMP:20260420T184013
CREATED:20230421T164833Z
LAST-MODIFIED:20230421T164833Z
UID:18501-1683392400-1683410400@918bathurst.com
SUMMARY:SHE IS WOMAN
DESCRIPTION:Excited to be hosting\, “SHE IS WOMAN”\, an immersive art experience that uses visual and digital mediums to celebrate the diversity of black women. Tickets available here.
URL:https://918bathurst.com/event/she-is-woman/
LOCATION:918 Bathurst: Culture\, Arts\, Media & Education\, 918 Bathurst Street\, Toronto\, ON\, M5R 3G5\, Canada
ATTACH;FMTTYPE=image/jpeg:https://918bathurst.com/wp-content/uploads/2023/04/340788604_757456225954747_358266607857199218_n.jpeg
END:VEVENT
END:VCALENDAR