BEGIN:VCALENDAR
VERSION:2.0
PRODID:-//918 Bathurst - ECPv6.15.20//NONSGML v1.0//EN
CALSCALE:GREGORIAN
METHOD:PUBLISH
X-WR-CALNAME:918 Bathurst
X-ORIGINAL-URL:https://918bathurst.com
X-WR-CALDESC:Events for 918 Bathurst
REFRESH-INTERVAL;VALUE=DURATION:PT1H
X-Robots-Tag:noindex
X-PUBLISHED-TTL:PT1H
BEGIN:VTIMEZONE
TZID:UTC
BEGIN:STANDARD
TZOFFSETFROM:+0000
TZOFFSETTO:+0000
TZNAME:UTC
DTSTART:20220101T000000
END:STANDARD
END:VTIMEZONE
BEGIN:VEVENT
DTSTART;TZID=UTC:20230422T200000
DTEND;TZID=UTC:20230422T230000
DTSTAMP:20260420T210837
CREATED:20230411T153356Z
LAST-MODIFIED:20230411T153356Z
UID:18491-1682193600-1682204400@918bathurst.com
SUMMARY:The Music Gallery Presents: Matthew Cardinal + Yolande Laroche
DESCRIPTION:On April 22nd\, The Music Gallery Presents: Matthew Cardinal and Yolande Laroche. \nFrom The Music Gallery: \n“Melding together exploratory electronics and dreamlike visuals\, Matthew Cardinal and Yolande Laroche present an evening of immersive ambient sound. \nKnown for an expansive solo practice as well as his work in Polaris and JUNO nominated trio nêhiyawak\, Matthew Cardinal joins the Music Gallery with an exploratory set on modular synthesizer and other electronics. Video artist Stephanie Kuse brings the sound to life\, with soft visuals inspired by Cardinal’s nighttime flash photography. \nOpening the evening is clarinetist\, keyboardist and vocalist Yolande Laroche\, bringing their signature experimental-chamber sound\, with a new set of reflective music and projected visuals.” \nFor more information\, and to purchase tickets\, click here.
URL:https://918bathurst.com/event/the-music-gallery-presents-matthew-cardinal-yolande-laroche/
LOCATION:918 Bathurst: Culture\, Arts\, Media & Education\, 918 Bathurst Street\, Toronto\, ON\, M5R 3G5\, Canada
CATEGORIES:Event,Featured Event
ATTACH;FMTTYPE=image/jpeg:https://918bathurst.com/wp-content/uploads/2023/04/mg.jpg
END:VEVENT
END:VCALENDAR