BEGIN:VCALENDAR
VERSION:2.0
PRODID:-//918 Bathurst - ECPv6.15.20//NONSGML v1.0//EN
CALSCALE:GREGORIAN
METHOD:PUBLISH
X-WR-CALNAME:918 Bathurst
X-ORIGINAL-URL:https://918bathurst.com
X-WR-CALDESC:Events for 918 Bathurst
REFRESH-INTERVAL;VALUE=DURATION:PT1H
X-Robots-Tag:noindex
X-PUBLISHED-TTL:PT1H
BEGIN:VTIMEZONE
TZID:UTC
BEGIN:STANDARD
TZOFFSETFROM:+0000
TZOFFSETTO:+0000
TZNAME:UTC
DTSTART:20220101T000000
END:STANDARD
END:VTIMEZONE
BEGIN:VEVENT
DTSTART;TZID=UTC:20230408T150000
DTEND;TZID=UTC:20230408T230000
DTSTAMP:20260421T061428
CREATED:20230323T204907Z
LAST-MODIFIED:20230323T204907Z
UID:18481-1680966000-1680994800@918bathurst.com
SUMMARY:Club Parkette Presents: Ohm Hourani\, Kris Guilty\, and Soudani
DESCRIPTION:On April 8th\, Club Parkette presents a day filled with sonic explorations\, featuring DJ sets from some of Montreal’s best: Ohm Hourani; Kris Guilty of La Rama Records; and Club Parkette resident\, SOUDANI. \nLive music from 3pm – 7pm. For more information\, and to purchase tickets\, click here.
URL:https://918bathurst.com/event/club-parkette-presents-ohm-hourani-kris-guilty-and-soudani/
LOCATION:918 Bathurst: Culture\, Arts\, Media & Education\, 918 Bathurst Street\, Toronto\, ON\, M5R 3G5\, Canada
CATEGORIES:Event,Featured Event
ATTACH;FMTTYPE=image/png:https://918bathurst.com/wp-content/uploads/2023/03/Screen-Shot-2023-03-23-at-4.38.05-PM.png
END:VEVENT
END:VCALENDAR