BEGIN:VCALENDAR
VERSION:2.0
PRODID:-//918 Bathurst - ECPv6.15.20//NONSGML v1.0//EN
CALSCALE:GREGORIAN
METHOD:PUBLISH
X-ORIGINAL-URL:https://918bathurst.com
X-WR-CALDESC:Events for 918 Bathurst
REFRESH-INTERVAL;VALUE=DURATION:PT1H
X-Robots-Tag:noindex
X-PUBLISHED-TTL:PT1H
BEGIN:VTIMEZONE
TZID:UTC
BEGIN:STANDARD
TZOFFSETFROM:+0000
TZOFFSETTO:+0000
TZNAME:UTC
DTSTART:20220101T000000
END:STANDARD
END:VTIMEZONE
BEGIN:VEVENT
DTSTART;TZID=UTC:20230120T193000
DTEND;TZID=UTC:20230120T220000
DTSTAMP:20260419T222150
CREATED:20230112T201005Z
LAST-MODIFIED:20230112T201319Z
UID:18418-1674243000-1674252000@918bathurst.com
SUMMARY:The Music Gallery Presents: You In Mind: Aurora Jade + Sandrine Masse
DESCRIPTION:“Combining traditional Indigenous art with modern influences\, Aurora Jade and Sandrine Masse bring an evening of sonic and visual storytelling through the lens of Indigenous perspectives. Melding together experimental jazz\, blues\, and darkwave\, Plains Cree singer and pianist Aurora Jade transports us to a unique sonic landscape that embodies traditional and modern sounds. Also a visionary visual artist\, her original art blending psychedelic graphic style with Indigenous art will be displayed in The Sun Room\, adjacent to the performance space. Travel through atmospheres of timeless soundscapes blending folk\, traditional rhythms\, and alt rock with Sandrine Masse as she weaves stories from her perspective as a Wendat and Québecoise artist.”\nTo learn more\, and to purchase tickets\, follow this link.  \n  \n 
URL:https://918bathurst.com/event/the-music-gallery-presents-you-in-mind-aurora-jade-sandrine-masse/
LOCATION:918 Bathurst: Culture\, Arts\, Media & Education\, 918 Bathurst Street\, Toronto\, ON\, M5R 3G5\, Canada
CATEGORIES:Event
ATTACH;FMTTYPE=image/png:https://918bathurst.com/wp-content/uploads/2023/01/Screen-Shot-2023-01-12-at-3.10.58-PM-e1673554346181.png
END:VEVENT
END:VCALENDAR