BEGIN:VCALENDAR
VERSION:2.0
PRODID:-//918 Bathurst - ECPv6.15.20//NONSGML v1.0//EN
CALSCALE:GREGORIAN
METHOD:PUBLISH
X-ORIGINAL-URL:https://918bathurst.com
X-WR-CALDESC:Events for 918 Bathurst
REFRESH-INTERVAL;VALUE=DURATION:PT1H
X-Robots-Tag:noindex
X-PUBLISHED-TTL:PT1H
BEGIN:VTIMEZONE
TZID:UTC
BEGIN:STANDARD
TZOFFSETFROM:+0000
TZOFFSETTO:+0000
TZNAME:UTC
DTSTART:20210101T000000
END:STANDARD
END:VTIMEZONE
BEGIN:VEVENT
DTSTART;VALUE=DATE:20221001
DTEND;VALUE=DATE:20221003
DTSTAMP:20260420T054857
CREATED:20220816T155554Z
LAST-MODIFIED:20220816T161307Z
UID:18303-1664582400-1664755199@918bathurst.com
SUMMARY:HORROR-RAMA
DESCRIPTION:Toronto’s Only All-Horror Convention is back with dozens of celebrity guests\n(This year’s include Lynn Griffin and Thom Matthews)\, artists\, filmmakers\,\nauthors\, and vendors\, as well as special performances and a short film festival.\nFor full details and to purchase tickets\, click here.
URL:https://918bathurst.com/event/horror-rama-2/
LOCATION:918 Bathurst: Culture\, Arts\, Media & Education\, 918 Bathurst Street\, Toronto\, ON\, M5R 3G5\, Canada
CATEGORIES:Event,Featured Event
ATTACH;FMTTYPE=image/jpeg:https://918bathurst.com/wp-content/uploads/2022/08/279749255_690798682070956_7548196751250832962_n.jpg
END:VEVENT
END:VCALENDAR