BEGIN:VCALENDAR
VERSION:2.0
PRODID:-//918 Bathurst - ECPv6.15.20//NONSGML v1.0//EN
CALSCALE:GREGORIAN
METHOD:PUBLISH
X-ORIGINAL-URL:https://918bathurst.com
X-WR-CALDESC:Events for 918 Bathurst
REFRESH-INTERVAL;VALUE=DURATION:PT1H
X-Robots-Tag:noindex
X-PUBLISHED-TTL:PT1H
BEGIN:VTIMEZONE
TZID:UTC
BEGIN:STANDARD
TZOFFSETFROM:+0000
TZOFFSETTO:+0000
TZNAME:UTC
DTSTART:20210101T000000
END:STANDARD
END:VTIMEZONE
BEGIN:VEVENT
DTSTART;VALUE=DATE:20220825
DTEND;VALUE=DATE:20220827
DTSTAMP:20260420T164923
CREATED:20220816T152329Z
LAST-MODIFIED:20220816T160205Z
UID:18290-1661385600-1661558399@918bathurst.com
SUMMARY:Garner Theatre Productions Presents:  Bright Star
DESCRIPTION:7:30pm \nOn August 25 and 26\, 918 will host the Toronto Premiere of the Broadway\nmusical Bright Star\, “the story of a successful literary editor forced to confront\nher past after meeting an ambitious young soldier just home from World War II.\nTogether they discover a stunning secret with the power to transform their\nlives.”\nGarner Theatre Productions’ interpretation of Bright Star will highlight this\nshow’s incredible music through Actor-Musicians who do it all – act the roles\,\nsing the songs and play the instruments simultaneously.\nDon’t miss this one-of-a-kind show! Tickets are available on a “Pay What You\nCan” basis and can be reserved here.
URL:https://918bathurst.com/event/garner-theatre-productions-presents-bright-star/2022-08-25/
LOCATION:918 Bathurst: Culture\, Arts\, Media & Education\, 918 Bathurst Street\, Toronto\, ON\, M5R 3G5\, Canada
CATEGORIES:Event,Featured Event
ATTACH;FMTTYPE=image/png:https://918bathurst.com/wp-content/uploads/2022/08/Screen-Shot-2022-08-16-at-11.22.13-AM.png
END:VEVENT
END:VCALENDAR