BEGIN:VCALENDAR
VERSION:2.0
PRODID:-//918 Bathurst - ECPv6.15.20//NONSGML v1.0//EN
CALSCALE:GREGORIAN
METHOD:PUBLISH
X-ORIGINAL-URL:https://918bathurst.com
X-WR-CALDESC:Events for 918 Bathurst
REFRESH-INTERVAL;VALUE=DURATION:PT1H
X-Robots-Tag:noindex
X-PUBLISHED-TTL:PT1H
BEGIN:VTIMEZONE
TZID:UTC
BEGIN:STANDARD
TZOFFSETFROM:+0000
TZOFFSETTO:+0000
TZNAME:UTC
DTSTART:20210101T000000
END:STANDARD
END:VTIMEZONE
BEGIN:VEVENT
DTSTART;TZID=UTC:20220521T180000
DTEND;TZID=UTC:20220521T180000
DTSTAMP:20260421T221525
CREATED:20220425T200457Z
LAST-MODIFIED:20220425T200457Z
UID:18271-1653156000-1653156000@918bathurst.com
SUMMARY:Arabic Stand Up Comedy with Alaa Abu Diab
DESCRIPTION:About this event\n\n\nShow information \n\nShow #1: 6pm (doors open 5:15pm)\nShow #2: 8:30 pm (doors open 7:45pm)\n\n*العربي بالأسفل* \nArabic Stand Up Comedy: “Lockdown” with internationally acclaimed Alaa Abu Diab \nAlmost 2 years since the beginning of COVID\, internationally-acclaimed Comedian Alaa Abu Diab returns to Canada with a brand new stand-up show. This time\, he speaks about his experience during the lockdown: family\, society\, how life is under the pandemic\, and other social issues that highlight the difference between Sweden and the Arab world. \nPlease note that this show will take place in Arabic only. \nThis show is 14+  \nFollow Alaa on Social Media: \n\nFacebook\nInstagram\nTwitter\nYouTube\n\n————————————————————————————————— \n“لوكداون” – عرض كوميدي مع علاء ابو دياب \nبعد أكثر من سنتين على بداية جائحة كورونا، يعود علاء أبو دياب إلى كندا بعرض ستاند أب جديد عن تجربته في فترة الإغلاق، عن العائلة والمجتمع وكيف هي الحياة في ظل الوباء ومواضيع أخرى إجتماعية تضيء على الفرق بين السويد والوطن العربي. \nملاحظة: يقدم العرض باللغة العربية فقط \nملاحظة :هذا العرض ل ١٤ و ما فوق  \nتابعوا علاء على مواقع التواصل الاجتماعى:  \nفيسبوك\, الانستغرام\, تويتر\, يوتيوب
URL:https://918bathurst.com/event/arabic-stand-up-comedy-with-alaa-abu-diab/
LOCATION:918 Bathurst: Culture\, Arts\, Media & Education\, 918 Bathurst Street\, Toronto\, ON\, M5R 3G5\, Canada
CATEGORIES:Featured Event
ATTACH;FMTTYPE=image/jpeg:https://918bathurst.com/wp-content/uploads/2022/04/https-_cdn.evbuc_.com_images_248399349_856677737753_1_original.20220316-015820.jpg
END:VEVENT
END:VCALENDAR