BEGIN:VCALENDAR
VERSION:2.0
PRODID:-//918 Bathurst - ECPv6.15.20//NONSGML v1.0//EN
CALSCALE:GREGORIAN
METHOD:PUBLISH
X-ORIGINAL-URL:https://918bathurst.com
X-WR-CALDESC:Events for 918 Bathurst
REFRESH-INTERVAL;VALUE=DURATION:PT1H
X-Robots-Tag:noindex
X-PUBLISHED-TTL:PT1H
BEGIN:VTIMEZONE
TZID:UTC
BEGIN:STANDARD
TZOFFSETFROM:+0000
TZOFFSETTO:+0000
TZNAME:UTC
DTSTART:20200101T000000
END:STANDARD
END:VTIMEZONE
BEGIN:VEVENT
DTSTART;TZID=UTC:20211204T193000
DTEND;TZID=UTC:20211204T193000
DTSTAMP:20260422T042915
CREATED:20211116T173010Z
LAST-MODIFIED:20211116T173010Z
UID:18194-1638646200-1638646200@918bathurst.com
SUMMARY:The Music Gallery Presents AWAKE: featuring Joseph Shabason\, Emissive and screening of Lucy Cameron Doc
DESCRIPTION:The Music Gallery is pleased to present AWAKE\, a night dedicated to the delicate dance between daydreams and insomnia with:\nJoseph Shabason (supported by: Thom Gill\, Bram Gielen\, Hugh Marsh\, Phil Melanson and Nicole Rampersaud)\nEmissive\nLucy Cameron\n\nAWAKE explores the contrast between the beauty your eyes consume in the day\, and the struggle in closing them at night.\nThe night begins with the documentary short\, AWAKE\, by Lucy Cameron. Emissive will provide live ambient electronic composition dedicated to insomnia following the screening.\n\nHeadlining is Joseph Shabason\, Canadian multi-instrumentalist and composer\, best known for playing the saxophone and member of bands such as DIANA\, Destroyer and The War on Drugs. As a solo project\, he has released experimental ambient jazz albums under his own name. For this special performance\, he will be accompanied by his composed band of highly acclaimed musicians (Thom Gill\, Bram Gielen\, Hugh Marsh\, Phil Melanson and Nicole Rampersaud) improvising their daydreams.
URL:https://918bathurst.com/event/the-music-gallery-presents-awake-featuring-joseph-shabason-emissive-and-screening-of-lucy-cameron-doc/
LOCATION:918 Bathurst: Culture\, Arts\, Media & Education\, 918 Bathurst Street\, Toronto\, ON\, M5R 3G5\, Canada
CATEGORIES:Featured Event
ATTACH;FMTTYPE=image/jpeg:https://918bathurst.com/wp-content/uploads/2021/11/257201582_4401593696625486_9008018364241637388_n.jpg
END:VEVENT
BEGIN:VEVENT
DTSTART;TZID=UTC:20211205T170000
DTEND;TZID=UTC:20211205T170000
DTSTAMP:20260422T042915
CREATED:20211026T150847Z
LAST-MODIFIED:20211104T173759Z
UID:18163-1638723600-1638723600@918bathurst.com
SUMMARY:Amici Chamber Ensemble Presents: Ritorna
DESCRIPTION:Amici Ritorna features Amici’s original trio: clarinet\, cello and piano. Three outstanding musicians\, and three monumental chamber works featuring the inimitable Joaquin Valdepeñas\, David Hetherington and Serouj Kradjian. This intimate concert will be presented at Bathurst 918 Centre for a limited audience. \n—– \nProgram: \nMax Bruch – Eight Pieces Op. 83 for clarinet\, cello and pinao \nNino Rota – Trio (1973) for clarinet\, cello and piano \nLudwig Van Beethoven – Trio in B flat op. 11 for clarinet\, cello and piano \n—– \nAmici Chamber Ensemble:\nConsidered one of the most distinguished clarinetists of his generation\, Toronto Symphony Orchestra Principal Clarinetist Joaquin Valdepeñas makes appearances as a soloist\, chamber musician and conductor\, at festivals & concert series throughout the world. A prolific recording artist\, he is a two-time Juno award winner and GRAMMY®-award nominee. \nDavid Hetherington\, for years the assistant principal cellist with the Toronto Symphony Orchestra\, performs regularly as a chamber musician as well as working frequently with contemporary music ensembles such as New Music Concerts and Soundstreams Canada. Mr. Hetherington plays his 1695 cello made by Giovanni Grancino of Milan “with rare delicacy and clarity”. \nJuno-winning and Grammy-nominated pianist and composer Serouj Kradjian is hailed as a “keyboard acrobat” of “crystal virtuosity” by the press. He has established himself as a versatile artist whose readiness to break boundaries and explore different styles has made him an exciting voice on the international music scene. He is regularly invited to appear as soloist and chamber musician in North America and Europe.
URL:https://918bathurst.com/event/amici-ritorn/
LOCATION:918 Bathurst: Culture\, Arts\, Media & Education\, 918 Bathurst Street\, Toronto\, ON\, M5R 3G5\, Canada
CATEGORIES:Featured Event
ATTACH;FMTTYPE=image/jpeg:https://918bathurst.com/wp-content/uploads/2021/10/Amici2021-Amici-Ritorna-WebPoster-1.jpg
END:VEVENT
END:VCALENDAR