BEGIN:VCALENDAR
VERSION:2.0
PRODID:-//918 Bathurst - ECPv6.15.20//NONSGML v1.0//EN
CALSCALE:GREGORIAN
METHOD:PUBLISH
X-ORIGINAL-URL:https://918bathurst.com
X-WR-CALDESC:Events for 918 Bathurst
REFRESH-INTERVAL;VALUE=DURATION:PT1H
X-Robots-Tag:noindex
X-PUBLISHED-TTL:PT1H
BEGIN:VTIMEZONE
TZID:UTC
BEGIN:STANDARD
TZOFFSETFROM:+0000
TZOFFSETTO:+0000
TZNAME:UTC
DTSTART:20180101T000000
END:STANDARD
END:VTIMEZONE
BEGIN:VEVENT
DTSTART;TZID=UTC:20190621T190000
DTEND;TZID=UTC:20190621T230000
DTSTAMP:20260419T230819
CREATED:20190613T154503Z
LAST-MODIFIED:20190717T143003Z
UID:17826-1561143600-1561158000@918bathurst.com
SUMMARY:Wavelength\, 918 Bathurst and Salone di Cultura present: Solstizio: Italian-Cdn Culture w/ Gordon Grdina Quartet / VERSA
DESCRIPTION:Wavelength Monthly Music Series\n☀️☀️☀️ June 2019 – “SOLSTIZIO” – Summer Solstice Show ☀️☀️☀️\nCo-presented with Salone di Cultura & 918 Bathurst Centre for Culture\, Arts\, Media & Education \nFeaturing:\nGordon Grdina Quartet (Vancouver/New York – jazz improv & cross-cultural fusion – 2019 Juno Award winner for Best Instrumental Album!)\nVERSA (Guelph – powerful post-rock meets synesthetic\, responsive projections)\nAnastasia Minster (Toronto – piano-driven chamber pop)\n+ Sandro Perri (DJ set)\n++ General Chaos Visuals\n+++ Contemporary Italian-Canadian Art\, Food & Coffee! 🇮🇹 🇨🇦 \nVisual Art: Anita Giancola\, Simone Collins\, Ester Pugliese\nFood Vendor: Cucinato\, Coffee: Rufino. \nFriday\, June 21\, 2019\n918 Bathurst Centre – 918 Bathurst St.\nDoors 7pm – $10 advance / $15 door – All Ages & Licensed.\n(Early show\, over by 11pm)\n* Advance tickets available at ShowClix\, Rotate This & Soundscapes Ticket Link \nWavelength collaborates with Salone di Cultura and 918 Bathurst to present “Solstizio\,” a multi-sensory celebration of contemporary Italian-Canadian culture as part of our Monthly Music Series on June 21\, 2019! Taking over one of Toronto’s most beautiful music venues\, 918 Bathurst Centre – located in a converted Buddhist temple – co-presenting partners Salone di Cultura will present Italian-Canadian visual art and food vendors\, alongside an engaging\, multi-genre music program including Italian-Canadian artists.
URL:https://918bathurst.com/event/wavelength-918-bathurst-and-salone-di-cultura-present-solstizio-italian-cdn-culture-w-gordon-grdina-quartet-versa/
LOCATION:918 Bathurst: Culture\, Arts\, Media & Education\, 918 Bathurst Street\, Toronto\, ON\, M5R 3G5\, Canada
CATEGORIES:Event
ATTACH;FMTTYPE=image/jpeg:https://918bathurst.com/wp-content/uploads/2019/06/Wavelength-Solstice-show.jpg
END:VEVENT
BEGIN:VEVENT
DTSTART;TZID=UTC:20190620T190000
DTEND;TZID=UTC:20190620T220000
DTSTAMP:20260419T230819
CREATED:20190613T153938Z
LAST-MODIFIED:20190613T153938Z
UID:17822-1561057200-1561068000@918bathurst.com
SUMMARY:Kristen Mark Westwood-What I Heard\, What I Saw - Album Launch
DESCRIPTION:Kristen Mark Westwood’s first album\, “What I Heard\, What I Saw\,” was born from almost a decade of wrestling with\, and re-discovering\, the stories from the Book of Mark. It’s a folk meditation on these core narratives of my faith\, told through the eyes of the characters I find myself next to most often as I live with these accounts year after year. \nHe will be playing through the album from start to finish with a full band while sharing some of the context behind the songs. His chief recording collaborator\, producer and guitarist extraordinaire Murray Pulver\, will be joining as a featured guest all the way from Winnipeg. Complimentary refreshments will be served during the times to connect before and after the show. Please do come say ‘hi’ and mingle with other fantastic guests! \nCopies of the album and standalone lyric books will be available as well.
URL:https://918bathurst.com/event/kristen-mark-westwood-what-i-heard-what-i-saw-album-launch/
LOCATION:918 Bathurst: Culture\, Arts\, Media & Education\, 918 Bathurst Street\, Toronto\, ON\, M5R 3G5\, Canada
ATTACH;FMTTYPE=image/jpeg:https://918bathurst.com/wp-content/uploads/2019/06/Kristen-Westwood-concert.jpg
END:VEVENT
BEGIN:VEVENT
DTSTART;TZID=UTC:20190616T160000
DTEND;TZID=UTC:20190616T230000
DTSTAMP:20260419T230819
CREATED:20190530T164626Z
LAST-MODIFIED:20190613T190728Z
UID:17758-1560700800-1560726000@918bathurst.com
SUMMARY:EDDIE AND QUINCY BULLEN: FATHER AND SON DUELING PIANO CONCERT
DESCRIPTION:Dueling Pianos is a celebration of a beautiful relationship between a father and son. A relationship that\, but for a father’s determination\, commitment and love\, could have detoured to strife and opposition. It is a reminder that music has a central place in our lives\, to inspire us in all ways\, including our work. \nTwo generations are represented in a very fine narrative powerfully presented with two voices\, speaking to the timeline of sacrifice to triumph\, of one generation passing its best on to the next. And\, from the father’s perspective as a renaissance leader\, also speaking to the qualities of inspiring others that he wants to pass on to his son. \nThe narrative and the specific musical pieces of Dueling Pianos are deliberately selected to demonstrate the pain and joy in reaching for and attaining excellence. Audiences are treated to masterful renditions of our own Oscar Peterson’s ‘Hymn to Freedom’\, of John Coltrane’s ‘Giant Steps’ and more… arranged for two pianos\, as the musicians weave the musical classics of Jazz\, Classical\, Calypso\, Reggae and The Blues into their story\, showing how the father prepared his son to understand and embrace his historical roots\, the roots of music and the world’s great musicians. \nFor the father his show is his legacy. The son\, for his part\, shows how this mentoring has shaped his music and his life. \nDoors Open: 4 P.M. \nConcert: 5 P.M. \nTickets are available HERE
URL:https://918bathurst.com/event/eddie-and-quincy-bullen-father-and-son-dueling-piano-concert/
LOCATION:918 Bathurst: Culture\, Arts\, Media & Education\, 918 Bathurst Street\, Toronto\, ON\, M5R 3G5\, Canada
ATTACH;FMTTYPE=image/jpeg:https://918bathurst.com/wp-content/uploads/2019/05/Eddie-Bullen-dueling-pianos.jpg
END:VEVENT
BEGIN:VEVENT
DTSTART;TZID=UTC:20190615T200000
DTEND;TZID=UTC:20190615T220000
DTSTAMP:20260419T230820
CREATED:20190613T153615Z
LAST-MODIFIED:20190613T153615Z
UID:17816-1560628800-1560636000@918bathurst.com
SUMMARY:TCML Final Showcase
DESCRIPTION:For the last number of years\, the Toronto Creative Music Lab has called 918 Bathurst home.  In that time\, we’ve seen some incredible musicians come together to hone their craft in a supportive environment\, and we’ve heard some amazing music. \nAlas\, all things must come to an end.  TCML will not be continuing next year\, and so\, this is your last chance ever to hear the magic their participants have cooked up. \n  \nJoin us for a concert of new works developed during the TCML experience! Forty artists from around the world will be collaborating for a full week before sharing their far-reaching musical pieces with an audience during the final showcase. Come and see/hear what they make! \nThe concert is co-presented with The Music Gallery\, and 918 Bathurst Centre for Culture\, Arts\, Media & Education\, and will be livestreamed by the Canadian Music Centre. \nTickets // $10-15 \nLivestream Link // https://livestream.com/accounts/13330169/TCML2019 \nAccessibility // 918 Bathurst is a 4-minute walk north from Bathurst Station (a fully accessible transit hub that is served by streetcars\, buses\, and Subway line 2). \n918 Bathurst is not fully accessible. There are three steps to the entrance and a short flight of stairs up to the performance space\, as well as down to the basement. There is not an elevator in the building. \n918 Bathurst has gendered washrooms located in basement.
URL:https://918bathurst.com/event/tcml2019/
LOCATION:918 Bathurst Street\, Toronto\, Ontario\, M5R 3G5\, Canada
ATTACH;FMTTYPE=image/jpeg:https://918bathurst.com/wp-content/uploads/2019/06/TCML-Final-showcase.jpg
END:VEVENT
BEGIN:VEVENT
DTSTART;VALUE=DATE:20190529
DTEND;VALUE=DATE:20190602
DTSTAMP:20260419T230820
CREATED:20190605T162617Z
LAST-MODIFIED:20190605T162617Z
UID:17774-1559088000-1559433599@918bathurst.com
SUMMARY:HAPPENING MULTICULTURAL FESTIVAL
DESCRIPTION:HAPPENING is a four-day Festival that will engage more than 60 artists/performers who self-identified as people of diverse communities\, immigrants\, newcomers and refugees. Happening brings together traditional and contemporary music\, dance\, visual arts\, story telling\, poetry\, crafts and food. \nDuring HAPPENING Multicultural Festival we are creating opportunities for professional development for artists interested in working with communities as well as creating opportunities for organizations to network with artists and other organizations. \nMUSE ARTS a.k.a Sick Muse Arts seeks to engage community organizations\, immigrant\, newcomer and refugee artists and local residents to promote love for arts\, inclusion\, solidarity and community building. We believe in the importance of fostering and building connections among artists and other community partners to achieve that purpose. \nWorking with community partners\,MUSE ARTS creates spaces for Emerging Artists from equity seeking groups to showcase their work\, to access opportunities for professional development and to engage communities meaningfully and actively in hands-on\, high quality arts education integrated to community building and social justice. \nMore info HERE
URL:https://918bathurst.com/event/happening-multicultural-festival/
LOCATION:918 Bathurst: Culture\, Arts\, Media & Education\, 918 Bathurst Street\, Toronto\, ON\, M5R 3G5\, Canada
CATEGORIES:Event
ATTACH;FMTTYPE=image/jpeg:https://918bathurst.com/wp-content/uploads/2019/03/HAPPENING-2019.jpg
END:VEVENT
BEGIN:VEVENT
DTSTART;VALUE=DATE:20190525
DTEND;VALUE=DATE:20190527
DTSTAMP:20260419T230820
CREATED:20190605T162110Z
LAST-MODIFIED:20190605T163905Z
UID:17771-1558742400-1558915199@918bathurst.com
SUMMARY:UN SOIREE AU CHAT NOIR
DESCRIPTION:Step into Le Chat Noir and the enrapturing world of 1900’s Paris for an evening of chamber music and contemporary dance. \nLe Chat Noir\, the famous salon in Paris\, was a second home to some of France’s most prolific authors\, artists and composers of La Belle Epoque period. \nEcho Chamber Toronto presents a magnificent tapestry of French and French-inspired music\, choreographed by Alysa Pires\, Liana Bellissimo and Tara Pillon. \nWith a musical program spanning the last century\, we’ll hear the exquisite Ravel String Quartet\, interlaced with songs by Erik Satie and Edith Piaf\, and following an intermission\, Debussy’s mesmerizing ‘Syrinx’ for solo flute and the main feature\, a new creation by acclaimed Jazz Pianist Renee Rosnes\, performed by Rosnes herself. \nChoreography: Alysa Pires | Liana Bellissimo | Tara Pillon \nDancers: Skylar Campbell | Meghan Pugh | Jack Bertinshaw | Miyoko Koyasu. \nMusicians: 5-time Juno Award Winner Renee Rosnes\, piano | Lauren Eberwein\, Soprano | Shelley Brown\, flute | Rosebud String Quartet (Aaron Schwebel\, Sheila Jaffe\, Keith Hamm and Leana Rutt) \nEcho Chamber Toronto is a performance series that integrates musicians and dancers together on stage for new choreographed works. Merging the intimate dynamic of chamber music with the physical beauty of contemporary dance\, ECT delivers the unique opportunity to connect with music not just through listening\, but also through movement\, interaction\, and space. These works are choreographed by some of Canada’s leading dancemakers\, and performed by Toronto’s finest musicians and dancers from the National Ballet of Canada\, Canadian Opera Company\, and Toronto Symphony Orchestra. \nwww.echochambertoronto.com
URL:https://918bathurst.com/event/un-soiree-au-chat-noir/
LOCATION:918 Bathurst: Culture\, Arts\, Media & Education\, 918 Bathurst Street\, Toronto\, ON\, M5R 3G5\, Canada
CATEGORIES:Event
ATTACH;FMTTYPE=image/png:https://918bathurst.com/wp-content/uploads/2019/06/Echo-Chamber-poster-small.png
END:VEVENT
BEGIN:VEVENT
DTSTART;TZID=UTC:20190523T190000
DTEND;TZID=UTC:20190523T220000
DTSTAMP:20260419T230820
CREATED:20190605T162948Z
LAST-MODIFIED:20190605T163107Z
UID:17776-1558638000-1558648800@918bathurst.com
SUMMARY:SYMMPHRONICA: THE INSTRUMENTAL MUSIC LIBERATION FRONT
DESCRIPTION:The Instrumental Liberation Front – The Jazz of Classical Sound! \nRon Davis and SymphRONica celebrate two great institutions of purely instrumental music: Jazz and Western classical\, bringing them together in new compositions to to create a newly jazz-energized\, one-of-a-kind musical experience. \nTickets HERE
URL:https://918bathurst.com/event/symmphronica-the-instrumental-music-liberation-front/
LOCATION:918 Bathurst: Culture\, Arts\, Media & Education\, 918 Bathurst Street\, Toronto\, ON\, M5R 3G5\, Canada
CATEGORIES:Event
ATTACH;FMTTYPE=image/jpeg:https://918bathurst.com/wp-content/uploads/2019/03/SymphRONica.jpg
END:VEVENT
BEGIN:VEVENT
DTSTART;VALUE=DATE:20190101
DTEND;VALUE=DATE:20200102
DTSTAMP:20260419T230820
CREATED:20190605T163643Z
LAST-MODIFIED:20190715T175805Z
UID:17778-1546300800-1577923199@918bathurst.com
SUMMARY:RUSH REHEARSALS RENTALS PROGRAM
DESCRIPTION:918 Bathurst is announcing our new Rush Rehearsals Rentals program.  Each month\, 918 Bathurst will release a calendar of dates and times in that month during which 918’s Great Hall and Gallery will be available to rent for $17/hour.  \nThis special rate is only valid for the times specified\, and must be booked using the Rush Rehearsals Rentals calendar.  Please note that bookings made through the online calendar are only booking requests and are not confirmed until bookings have been processed and contracted by the 918 Bathurst office.
URL:https://918bathurst.com/event/rush-rehearsals-rentals-program-2/2019-01-01/
LOCATION:918 Bathurst: Culture\, Arts\, Media & Education\, 918 Bathurst Street\, Toronto\, ON\, M5R 3G5\, Canada
CATEGORIES:Event
END:VEVENT
END:VCALENDAR