BEGIN:VCALENDAR
VERSION:2.0
PRODID:-//918 Bathurst - ECPv6.15.20//NONSGML v1.0//EN
CALSCALE:GREGORIAN
METHOD:PUBLISH
X-WR-CALNAME:918 Bathurst
X-ORIGINAL-URL:https://918bathurst.com
X-WR-CALDESC:Events for 918 Bathurst
REFRESH-INTERVAL;VALUE=DURATION:PT1H
X-Robots-Tag:noindex
X-PUBLISHED-TTL:PT1H
BEGIN:VTIMEZONE
TZID:UTC
BEGIN:STANDARD
TZOFFSETFROM:+0000
TZOFFSETTO:+0000
TZNAME:UTC
DTSTART:20230101T000000
END:STANDARD
END:VTIMEZONE
BEGIN:VEVENT
DTSTART;TZID=UTC:20241005T160000
DTEND;TZID=UTC:20241005T220000
DTSTAMP:20260421T184630
CREATED:20240917T192731Z
LAST-MODIFIED:20240917T192731Z
UID:18988-1728144000-1728165600@918bathurst.com
SUMMARY:QUADRIVIUM
DESCRIPTION:A special six-hour performance “happening”.\nOriginal works featuring traditional Korean music\, dance\, and\, of course\, plenty of drumming—woven together with elements of theatre and ritual. \nThe Cast \nEnsemble Jeng Yi\nJoo Hyung Kim\nSoo Jung Kwon\n& introducing\nthe young apprentices of Ensemble Jeng Yi \nFor more info and tickets\, click here.
URL:https://918bathurst.com/event/quadrivium/
LOCATION:918 Bathurst: Culture\, Arts\, Media & Education\, 918 Bathurst Street\, Toronto\, ON\, M5R 3G5\, Canada
CATEGORIES:Event,Featured Event
ATTACH;FMTTYPE=image/png:https://918bathurst.com/wp-content/uploads/2024/09/Screen-Shot-2024-09-17-at-3.22.40-PM.png
END:VEVENT
BEGIN:VEVENT
DTSTART;TZID=UTC:20241016T200000
DTEND;TZID=UTC:20241016T220000
DTSTAMP:20260421T184630
CREATED:20240918T200819Z
LAST-MODIFIED:20240918T200819Z
UID:19004-1729108800-1729116000@918bathurst.com
SUMMARY:Music Gallery Presents: X Avant XIX - Diffuse
DESCRIPTION:The spinning of a record envelopes our sanctuary space using the all-new multi-channel ATMOS surround system. \nFor night two of X Avant XIX: TeXture\, sounds scatter around and envelop the Music Gallery as Exit Points takes over the space for the launch of their first vinyl record\, “You Are The Right Length”\, with a 12-channel surround sound listening experience. Recorded performances by 7 Toronto-based improvisation ensembles are diffused live throughout speakers that encircle listeners. \nGayle Young\, Zoma\, and Michael Palumbo will close out the night with live performances that are also spatialized on the surround sound system. The gallery space will also exhibit Exit Points concert photographs by Mike Filippov\, Eugene Huo\, Bryanna Reilly\, and Stephen Humphrey\, and will house a special record shop and vinyl listening booths. \nExit Points is a Toronto-based free-improvisation concert series and record label that brings together listeners and musicians from diverse sonic backgrounds. Each monthly concert creates a unique space for music communities to interact\, resulting in one-of-a-kind performances that are later released as records. \nCurated by Michael Palumbo\, Artistic Director of Exit Points
URL:https://918bathurst.com/event/music-gallery-presents-x-avant-xix-diffuse/
LOCATION:918 Bathurst: Culture\, Arts\, Media & Education\, 918 Bathurst Street\, Toronto\, ON\, M5R 3G5\, Canada
CATEGORIES:Event,Featured Event
ATTACH;FMTTYPE=image/jpeg:https://918bathurst.com/wp-content/uploads/2024/09/Snapinsta.app_460646655_18458481301045586_1352272312340921737_n_1080.jpg
END:VEVENT
BEGIN:VEVENT
DTSTART;TZID=UTC:20241017T180000
DTEND;TZID=UTC:20241017T200000
DTSTAMP:20260421T184630
CREATED:20240918T201123Z
LAST-MODIFIED:20240918T203320Z
UID:19007-1729188000-1729195200@918bathurst.com
SUMMARY:Music Gallery Presents: X Avant XIX – Weave
DESCRIPTION:A braid of dance and music exploring the intricacies of texture in nature. \nWhile night three of X Avant XIX: TeXture splits into two separate features of movement and later sound\, both converge to reveal the spectrums and geometries that lay within nature. The first part of the night features Mossbelly offering gestures of dance and performance that gently tap\, pitter-patter\, and slide across the floor in reverence to a fuzzy friend from nature. This intergenerational performance is a choreographic meditation on our human connection to land\, plant life\, nature\, and time. \nAdmission to Mossbelly (Weave\, Part 1) is free or by donation. Advance registration is available. \nAs Mossbelly’s performance opens the night\, if you want to spend the full evening with the Music Gallery be sure to get your tickets for Weave\, Part 2 featuring Rafael Toral and Nyda Kwasowsky (doors at 8:00 pm\, performance at 8:30 pm).
URL:https://918bathurst.com/event/music-gallery-presents-x-avant-xix-weave/
LOCATION:918 Bathurst: Culture\, Arts\, Media & Education\, 918 Bathurst Street\, Toronto\, ON\, M5R 3G5\, Canada
CATEGORIES:Event,Featured Event
ATTACH;FMTTYPE=image/png:https://918bathurst.com/wp-content/uploads/2024/09/X-Avant-2024-template-DaysX-Avant-Oct-17-768x768-1.png
END:VEVENT
BEGIN:VEVENT
DTSTART;TZID=UTC:20241017T200000
DTEND;TZID=UTC:20241017T220000
DTSTAMP:20260421T184630
CREATED:20240918T203124Z
LAST-MODIFIED:20240918T203245Z
UID:19016-1729195200-1729202400@918bathurst.com
SUMMARY:Music Gallery Presents: X Avant XIX – Weave Part 2
DESCRIPTION:A braid of dance and music exploring the intricacies of texture in nature. \nWhile night three of X Avant XIX: TeXture splits into two separate features of movement and later sound\, both converge to reveal the spectrums and geometries that lay within nature. Following the sunset for the second part of the night\, Rafael Toral blends ambient\, experimental electronics\, and rock via electric guitar to create spaces for silence. Focused on disconnecting listeners from information and sensory overload\, he encourages reconnection with sacredness\, presence\, and the land. \nOpening the evening in our gallery room is a looped audio and dance presentation by artist Nyda Kwasowsky exploring textile\, tradition\, and sound. \nThese performances are the second part of the evening (doors at 8:00 pm\, performance at 8:30 pm)\, and it is a ticketed event. \nIf you want to start your evening at the Music Gallery earlier\, you may also register for Weave\, Part 1 for free or by donation. The first part of the night features Mossbelly with a movement-based performance that opens the night (doors 5:30 pm\, performance at 6:00 pm). \n  \nFor ticket and more information\, click here!
URL:https://918bathurst.com/event/music-gallery-presents-x-avant-xix-weave-part-2/
LOCATION:918 Bathurst: Culture\, Arts\, Media & Education\, 918 Bathurst Street\, Toronto\, ON\, M5R 3G5\, Canada
CATEGORIES:Event,Featured Event
ATTACH;FMTTYPE=image/png:https://918bathurst.com/wp-content/uploads/2024/09/X-Avant-2024-template-DaysX-Avant-Oct-17-768x768-2.png
END:VEVENT
BEGIN:VEVENT
DTSTART;TZID=UTC:20241019T200000
DTEND;TZID=UTC:20241019T220000
DTSTAMP:20260421T184630
CREATED:20240918T202455Z
LAST-MODIFIED:20240918T202455Z
UID:19013-1729368000-1729375200@918bathurst.com
SUMMARY:Music Gallery Presents: X Avant XIX – Refraction
DESCRIPTION:Sounds metamorphose from small to big as Music Gallery OGs The Glass Orchestra bring back beloved glass noises and future proof fills every corner with sound. \nFor the last night of X AVANT XIX: TeXture\, we bring back MG OGs The Glass Orchestra\, the only ensemble in the world that performs and composes with their own glass instruments. Founded in 1977 and entering its 44th year\, the Glass Orchestra continues to explore the ethereal\, expansive\, and percussive possibilities of glass using bowls\, goblets\, tubes\, xylophones\, bells\, and other uniquely designed instruments. \nFuture proof brings in some pedal-mania and ends the night with huge\, avant-groove sounds that rush and wash the whole space. With two beloved Toronto improvisers making small and BIG sounds\, this night is not to be missed. \nIn our gallery space\, Toronto-based artist Michael Fawcett builds a custom\, texture-inspired interactive sound installation that is to be both seen and heard.\nFor more information and tickets\, click here!
URL:https://918bathurst.com/event/music-gallery-presents-x-avant-xix-refraction/
LOCATION:918 Bathurst: Culture\, Arts\, Media & Education\, 918 Bathurst Street\, Toronto\, ON\, M5R 3G5\, Canada
CATEGORIES:Event,Featured Event
ATTACH;FMTTYPE=image/png:https://918bathurst.com/wp-content/uploads/2024/09/X-Avant-2024-template-DaysX-Avant-Oct-19-768x768-1.png
END:VEVENT
BEGIN:VEVENT
DTSTART;TZID=UTC:20241025T200000
DTEND;TZID=UTC:20241025T220000
DTSTAMP:20260421T184630
CREATED:20240806T190115Z
LAST-MODIFIED:20240806T190115Z
UID:18950-1729886400-1729893600@918bathurst.com
SUMMARY:DIWAN: An Ode to Sufism
DESCRIPTION:Music Without Borders proudly presents DIWAN: An Ode to Sufism (“ديوان “عن العشق الإلهي)\, an original orchestral composition by the brilliant composers Gaby Al Botros & Husam Numan. This captivating performance pays tribute to the mystical essence of Sufism through original compositions inspired by Arabic\, Persian\, and Turkish poetry.\n\n\nDIWAN explores the spiritual and divine themes of Sufi poetry\, drawing from classical forms and employing authentic Maqam techniques. Through the evocative verses of poets such as Sharif Radhi\, Ibn al-Farid\, Abu al-Atahiya\, and Muhyiddin Ibn Arabi\, this concert brings to life the profound beauty and depth of Sufi mysticism\, offering an enchanting celebration of its rich cultural and spiritual heritage.
URL:https://918bathurst.com/event/diwan-an-ode-to-sufism/
LOCATION:918 Bathurst: Culture\, Arts\, Media & Education\, 918 Bathurst Street\, Toronto\, ON\, M5R 3G5\, Canada
CATEGORIES:Event,Featured Event
ATTACH;FMTTYPE=image/jpeg:https://918bathurst.com/wp-content/uploads/2024/08/thumbnail_Diwan-Updated-poster.jpg
END:VEVENT
BEGIN:VEVENT
DTSTART;TZID=UTC:20241029T183000
DTEND;TZID=UTC:20241029T203000
DTSTAMP:20260421T184630
CREATED:20240917T195138Z
LAST-MODIFIED:20240925T192542Z
UID:18998-1730226600-1730233800@918bathurst.com
SUMMARY:"The Nail That Sticks Out" – Book launch
DESCRIPTION:The Nail That Sticks Out: Reflections on the Postwar Japanese Canadian Commuity book launch \nJoin us for a special gathering to celebrate the launch of The Nail That Sticks Out\, a hybrid memoir and Japanese Canadian history by Suzanne Elki Yoko Hartmann. \nEnjoy an evening with Japanese music by ten ten\, light refreshments and a book reading. Kerri Sakamoto will moderate the discussion and Q-and-A session. A book signing will follow. \nFor more info and to reserve a spot\, click here.
URL:https://918bathurst.com/event/the-nail-that-sticks-out-book-launch/
LOCATION:918 Bathurst: Culture\, Arts\, Media & Education\, 918 Bathurst Street\, Toronto\, ON\, M5R 3G5\, Canada
CATEGORIES:Event,Featured Event
ATTACH;FMTTYPE=image/jpeg:https://918bathurst.com/wp-content/uploads/2024/09/image002-2.jpg
END:VEVENT
BEGIN:VEVENT
DTSTART;TZID=UTC:20241030T193000
DTEND;TZID=UTC:20241030T230000
DTSTAMP:20260421T184630
CREATED:20241015T205043Z
LAST-MODIFIED:20241015T205043Z
UID:19022-1730316600-1730329200@918bathurst.com
SUMMARY:Derek Gripper Live in Concert
DESCRIPTION:“A New African String Theory” with Derek Gripper is not just a concert; it’s an immersive musical exploration that bridges continents and genres. As a globally renowned South African guitarist\, Gripper has rewritten the narrative of classical guitar by infusing it with the captivating sounds of the West African kora\, a 21 stringed harp. \nGripper’s transformative journey began with the release of “One Night on Earth\,” his translations of the music of kora virtuoso Toumani Diabaté. Celebrated classical guitarist John Williams said it seemed “absolutely impossible until I heard Derek Gripper do it\,” leading to collaborations with this icon of the guitar at London’s Shakespeare’s Globe\, as well as a collaboration with Toumani Diabaté at The Festival Acoustik in Bamako\, Mali. Even Gripper’s debut at the revered Carnegie Hall saw him performing alongside Mali’s Trio da Kali\, an endorsement of his revolutionary approach. \nRecent recordings like “A Year of Swimming\,” “Billy Goes to Durban\,” and his latest album with kora master Ballaké Sissoko\, introduce original compositions and improvisations\, each a testament to his dedication to evolving and challenging his musical style. Moreover\, his recordings of the solo works of J.S. Bach have been a fascinating study in the symbiosis of African music and early European melodies\, revealing the freedom and universality of one of Europe’s great improvising musicians. \n“A New African String Theory” captures the essence of the human experience in the importance of rediscovering ourselves through dialogue. \nSpecial note: The great Malian kora player Toumani passed away unexpectedly in July of 2024. To commemorate the passing of one of Africa’s great virtuosos\, Derek will perform the five compositions off Toumani’s debut album “Kaira” in a brand new\, never before performed\, rendition of these classics of the West African repertoire.
URL:https://918bathurst.com/event/derek-gripper-live-in-concert/
LOCATION:918 Bathurst: Culture\, Arts\, Media & Education\, 918 Bathurst Street\, Toronto\, ON\, M5R 3G5\, Canada
ATTACH;FMTTYPE=image/jpeg:https://918bathurst.com/wp-content/uploads/2024/10/Derek-Gripper-Toronto-Instagram-scaled.jpg
END:VEVENT
END:VCALENDAR