BEGIN:VCALENDAR
VERSION:2.0
PRODID:-//918 Bathurst - ECPv6.15.20//NONSGML v1.0//EN
CALSCALE:GREGORIAN
METHOD:PUBLISH
X-ORIGINAL-URL:https://918bathurst.com
X-WR-CALDESC:Events for 918 Bathurst
REFRESH-INTERVAL;VALUE=DURATION:PT1H
X-Robots-Tag:noindex
X-PUBLISHED-TTL:PT1H
BEGIN:VTIMEZONE
TZID:UTC
BEGIN:STANDARD
TZOFFSETFROM:+0000
TZOFFSETTO:+0000
TZNAME:UTC
DTSTART:20210101T000000
END:STANDARD
END:VTIMEZONE
BEGIN:VEVENT
DTSTART;TZID=UTC:20220923T200000
DTEND;TZID=UTC:20220923T230000
DTSTAMP:20260420T054828
CREATED:20220816T153340Z
LAST-MODIFIED:20220816T161340Z
UID:18294-1663963200-1663974000@918bathurst.com
SUMMARY:Screening:  Affairs of the Heart\, Jamie Day Fleck
DESCRIPTION:On September 23\, 918 will host a screening of Jamie Day Fleck’sAffairs of the\nHeart: The Life and Music of Marjan Mozetich. The documentary explores “the\nchallenges and triumphs of famed Canadian classical music composer\, Marjan\nMozetich\, with glimpses into his interior world spanning the vast reaches of the\nheavens and the dark depths of the human heart. His most well-known work\,\nAffairs of the Heart\, captivated Canadian radio listeners when it premiered\ndepicting joys and sorrows\, pain and bliss. The film features his life story while\npresenting his catalogue of music to the audience through performances by\nworld-renowned musicians.”\nStay tuned to our social media for information on ticket sales.\nIn the meantime\, watch the trailer for this beautiful film here.
URL:https://918bathurst.com/event/screening-affairs-of-the-heart-jamie-day-fleck/
LOCATION:918 Bathurst: Culture\, Arts\, Media & Education\, 918 Bathurst Street\, Toronto\, ON\, M5R 3G5\, Canada
CATEGORIES:Event,Featured Event
ATTACH;FMTTYPE=image/png:https://918bathurst.com/wp-content/uploads/2022/08/Screen-Shot-2022-08-16-at-11.27.34-AM.png
END:VEVENT
BEGIN:VEVENT
DTSTART;TZID=UTC:20220924T030000
DTEND;TZID=UTC:20220924T170000
DTSTAMP:20260420T054828
CREATED:20220816T154309Z
LAST-MODIFIED:20220816T161322Z
UID:18298-1663988400-1664038800@918bathurst.com
SUMMARY:Confluence Concerts Presents: Drawing Room: A Dialogue for Three Voices  and One Shadow
DESCRIPTION:On September 24\, join us at 918 for the world premiere of The Drawing Room\nby Ian Cusson and André Alexis\, a take on the moments before the beginning\nof King Lear and performed by Marion Newman\, Patricia O’Callaghan and Suba\nSankaran.\nConfluence Concerts creates “joyous\, daring and thought-provoking musical\nexperiences within a warm atmosphere of intimacy and discovery… a company\nof diverse creative artists dedicated to personal\, thought-provoking\, and moving\npresentations.” \nTickets to become available late August.
URL:https://918bathurst.com/event/confluence-concerts-presents-drawing-room-a-dialogue-for-three-voices-and-one-shadow/2022-09-24/
LOCATION:918 Bathurst: Culture\, Arts\, Media & Education\, 918 Bathurst Street\, Toronto\, ON\, M5R 3G5\, Canada
CATEGORIES:Event,Featured Event
ATTACH;FMTTYPE=image/png:https://918bathurst.com/wp-content/uploads/2022/08/Screen-Shot-2022-08-16-at-11.40.31-AM.png
END:VEVENT
END:VCALENDAR