BEGIN:VCALENDAR
VERSION:2.0
PRODID:-//918 Bathurst - ECPv6.15.20//NONSGML v1.0//EN
CALSCALE:GREGORIAN
METHOD:PUBLISH
X-ORIGINAL-URL:https://918bathurst.com
X-WR-CALDESC:Events for 918 Bathurst
REFRESH-INTERVAL;VALUE=DURATION:PT1H
X-Robots-Tag:noindex
X-PUBLISHED-TTL:PT1H
BEGIN:VTIMEZONE
TZID:UTC
BEGIN:STANDARD
TZOFFSETFROM:+0000
TZOFFSETTO:+0000
TZNAME:UTC
DTSTART:20210101T000000
END:STANDARD
END:VTIMEZONE
BEGIN:VEVENT
DTSTART;TZID=UTC:20220308T200000
DTEND;TZID=UTC:20220308T220000
DTSTAMP:20260421T133245
CREATED:20220228T184247Z
LAST-MODIFIED:20220228T184247Z
UID:18252-1646769600-1646776800@918bathurst.com
SUMMARY:The Music Gallery Presents: Beverley Johnston – Finding HER Voice
DESCRIPTION:‘Finding HER Voice’ A celebration on International Women’s Day with Canadian percussionist Beverley Johnston featuring works by Alice Ping Yee Ho\, Holly Winter\, Christos Hatzis\, Norbert Palej and Frederic Rzewski. All the works are based on iconic or historic female figures including Baba Yaga\, Mother Earth\, Eris\, Georgia O’Keeffe\, and Yoko Ono. The fusion of live percussion and audio playback will be complemented with slide projections and video. A percussive feast for the eyes and ears! \nAll ticket sales for this performance will be donated to Nellie’s Shelter. \nIN-PERSON CAPACITY FOR THIS EVENT IS EXTREMELY LIMITED\, however we will be livestreaming this concert from this website (http://musicgallery.org) at 8PM on March 8. \nProgram: \nWoman Runs with Wolves (2010)- Alice Ping Yee Ho\n(multiple percussion\, voice and audio playback) \nTo the Earth (1985)- Frederic Rzewski\n(flowerpots and voice) \nEris (2021\, world premiere)- Christos Hatzis\n(vibraphone\, audio playback) \nSer con El (2018) Norbert Palej\n(vibraphone and voice) \nwild with the music of color (2021\, world premiere)- Holly Winter\n(percussion and audio playback) \nWitch on Thin Ice (2019)- Alice Ho\n(multiple percussion with audio playback and video)
URL:https://918bathurst.com/event/the-music-gallery-presents-beverley-johnston-finding-her-voice/
LOCATION:918 Bathurst: Culture\, Arts\, Media & Education\, 918 Bathurst Street\, Toronto\, ON\, M5R 3G5\, Canada
CATEGORIES:Featured Event
ATTACH;FMTTYPE=image/jpeg:https://918bathurst.com/wp-content/uploads/2022/02/chip_BeverlyJohnston-780x780-1.jpg
END:VEVENT
BEGIN:VEVENT
DTSTART;TZID=UTC:20220325T194500
DTEND;TZID=UTC:20220325T220000
DTSTAMP:20260421T133245
CREATED:20220228T183543Z
LAST-MODIFIED:20220228T183543Z
UID:18249-1648237500-1648245600@918bathurst.com
SUMMARY:The Music Gallery Presents Continuum Contemporary Music: Brush Line
DESCRIPTION:Continuum presents Brush Line\, a spectacular mixed chamber music concert featuring its internationally-renowned core ensemble in Commedia Della Musica (2017) by Jimmie LeBlanc\, Cold mountains\, one belt\, heart-break green (2017) by Carolyn Chen\, In Memoriam: Muhal Richard Abrams (2018) by Tyshawn Sorey and with mezzo-soprano Marion Newman in Linda Smith’s Brushline (2004\, a Continuum commission). Also featured is Continuum’s 6th annual Teen Composer Award recipient\, Britney Dawn Do\, whose world premiere work can be heard in a pre-concert presentation at 7:45pm.
URL:https://918bathurst.com/event/the-music-gallery-presents-continuum-contemporary-music-brush-line/
LOCATION:918 Bathurst: Culture\, Arts\, Media & Education\, 918 Bathurst Street\, Toronto\, ON\, M5R 3G5\, Canada
CATEGORIES:Featured Event
ATTACH;FMTTYPE=image/jpeg:https://918bathurst.com/wp-content/uploads/2022/02/brushline-square-780x780-1.jpg
END:VEVENT
BEGIN:VEVENT
DTSTART;TZID=UTC:20220326T190000
DTEND;TZID=UTC:20220326T210000
DTSTAMP:20260421T133245
CREATED:20220228T175940Z
LAST-MODIFIED:20220301T145524Z
UID:18243-1648321200-1648328400@918bathurst.com
SUMMARY:DESIFEST
DESCRIPTION:The first in its series\, this intimate concert event will be a unique\, multi-disciplinary experience as we reIMAGINE South Asian classical music through multimedia\, live performance and audience participation.\n\nBe part of the musical journey presenting traditional classical compositions\, infused and invigorated with experimental influences\, and sing along to your favourite classical Bollywood numbers. A talented lineup of artists from around the world come together on stage including Santosh Naidu\, Hasheel Lodhia\, Pratik Rao\, Puja Thaker\, Ramona Sylvan\, Nathan Khan\, Ian De Souza\, Anton Apostol and Shivani Patel.\n\nTickets include a pre-packaged snack and drink. Proof of Vaccination + Photo ID will be required to enter the premises\, and temperature check will be taken at the door. Masks permitted for the duration of the event.
URL:https://918bathurst.com/event/desifest/
LOCATION:918 Bathurst: Culture\, Arts\, Media & Education\, 918 Bathurst Street\, Toronto\, ON\, M5R 3G5\, Canada
CATEGORIES:Event,Featured Event
ATTACH;FMTTYPE=image/png:https://918bathurst.com/wp-content/uploads/2022/02/Artboard-2.png
END:VEVENT
BEGIN:VEVENT
DTSTART;TZID=UTC:20220331T193000
DTEND;TZID=UTC:20220331T193000
DTSTAMP:20260421T133245
CREATED:20220315T165158Z
LAST-MODIFIED:20220315T165158Z
UID:18261-1648755000-1648755000@918bathurst.com
SUMMARY:IANNUS by The Happenstancers
DESCRIPTION:IANNUS pulls the audience back and forth through time\, juxtaposing the 17th and 18th century music of John Dowland\, Henry Purcell\, and Mary Dering with the contemporary works of Judith Weir\, Oliver Knussen\, and Thomas Ades\, and others. \nUsing the music of the past as a guide\, these modern British composers draw inspiration from their predecessors\, quoting their music directly\, referencing their forms\, and sourcing ideas from their shared history. With dramatic staging and lighting\, Judith Weir’s micro-opera King Harald’s Saga is woven throughout the programme\, forming the dramatic core of this performance. \nPerformers for IANNUS include — Hillary Jean Young\, voice; Katya Poplyansky\, violin; Sarah Gans\, cello; Aleh Remezau\, oboe; Kevin Ahfat\, keyboards; and Brad Cherwin\, clarinets. \nIANNUS is presented with the generous support of the Toronto Arts Council\, Ontario Arts Council\, and Canada Council for the Arts.
URL:https://918bathurst.com/event/iannus-by-the-happenstancers/
LOCATION:918 Bathurst: Culture\, Arts\, Media & Education\, 918 Bathurst Street\, Toronto\, ON\, M5R 3G5\, Canada
CATEGORIES:Featured Event
ATTACH;FMTTYPE=image/jpeg:https://918bathurst.com/wp-content/uploads/2022/03/https-_cdn.evbuc_.com_images_246535249_18924628539_1_original.20220313-190423.jpg
END:VEVENT
END:VCALENDAR