BEGIN:VCALENDAR
VERSION:2.0
PRODID:-//918 Bathurst - ECPv6.15.20//NONSGML v1.0//EN
CALSCALE:GREGORIAN
METHOD:PUBLISH
X-WR-CALNAME:918 Bathurst
X-ORIGINAL-URL:https://918bathurst.com
X-WR-CALDESC:Events for 918 Bathurst
REFRESH-INTERVAL;VALUE=DURATION:PT1H
X-Robots-Tag:noindex
X-PUBLISHED-TTL:PT1H
BEGIN:VTIMEZONE
TZID:UTC
BEGIN:STANDARD
TZOFFSETFROM:+0000
TZOFFSETTO:+0000
TZNAME:UTC
DTSTART:20220101T000000
END:STANDARD
END:VTIMEZONE
BEGIN:VEVENT
DTSTART;TZID=UTC:20231117T200000
DTEND;TZID=UTC:20231117T230000
DTSTAMP:20260420T023325
CREATED:20231101T165154Z
LAST-MODIFIED:20231101T165154Z
UID:18659-1700251200-1700262000@918bathurst.com
SUMMARY:The Music Gallery Co-Presents: Walkside Lost
DESCRIPTION:Exploring projections\, amplification\, and new technologies\, Continuum magnifies the minute to reveal extraordinary potentials in music. Co-curated with Amy Brandon\, we feature two premieres by PIVOT 2019 composers: the premiere of Amy’s new work for augmented reality percussion and a new acoustic work for the Continuum core ensemble by Émilie Girard-Charest co-commissioned by Continuum with Ensemble Paramirabo in Montréal. These works fuse with a collection of innovative Canadian premieres. \nFor more info and to purchase tickets\, click here.
URL:https://918bathurst.com/event/the-music-gallery-co-presents-walkside-lost/
LOCATION:918 Bathurst: Culture\, Arts\, Media & Education\, 918 Bathurst Street\, Toronto\, ON\, M5R 3G5\, Canada
CATEGORIES:Event,Featured Event
ATTACH;FMTTYPE=image/png:https://918bathurst.com/wp-content/uploads/2023/11/38c8476e-7305-4736-9a9a-6ce757793eb9.png
END:VEVENT
BEGIN:VEVENT
DTSTART;TZID=UTC:20231119T180000
DTEND;TZID=UTC:20231119T210000
DTSTAMP:20260420T023325
CREATED:20231101T164726Z
LAST-MODIFIED:20231101T165243Z
UID:18655-1700416800-1700427600@918bathurst.com
SUMMARY:Marianne: The Musical - Movie Industry Read
DESCRIPTION:Join us for the Musical Movie Industry Read of “Marianne\,” a new musical written and composed by Janel Rae Filipiak. \nMarianne follows 7 hungry women as they traverse through a decade\, hanging on either ends of life together; all in the shade of old pine trees amidst a garden with a cunning spirit. \nReading Cast: Deborah Tennant\, Nadine Whiteman\, Rosemary Dunsmore\, Rosie Wyse\, Alicia Barban\, Germain Konji\, Meredith Busteed & Gillian Bennett \nTo learn more and to RSVP for attendance\, click here.
URL:https://918bathurst.com/event/marianne-the-musical-movie-industry-read/
LOCATION:918 Bathurst: Culture\, Arts\, Media & Education\, 918 Bathurst Street\, Toronto\, ON\, M5R 3G5\, Canada
CATEGORIES:Event,Featured Event
ATTACH;FMTTYPE=image/jpeg:https://918bathurst.com/wp-content/uploads/2023/11/Marianne-The-Musical-Poster-.jpeg
END:VEVENT
BEGIN:VEVENT
DTSTART;TZID=UTC:20231125T200000
DTEND;TZID=UTC:20231125T230000
DTSTAMP:20260420T023325
CREATED:20231019T160733Z
LAST-MODIFIED:20231019T181136Z
UID:18642-1700942400-1700953200@918bathurst.com
SUMMARY:Music Gallery Presents: 25 Years of LAL
DESCRIPTION:Celebrating the 25th anniversary of protest music group\, LAL.\nLAL\, a treasure in Toronto’s experimental scene comprising of Nicholas Murray and Rosina Kazi\, is not just a musical force but a community builder.Commemorating their 25th year\, they release their new album SPECTACULAR on November 24 followed by a celebratory event on November 25 at The Music Gallery. The eight-track album\, born during the challenges of the pandemic\, explores radical love and transformation after heartbreak. Join us in honoring this quarter-century journey and experience the culmination of their artistic legacy. \nMG Members / Low Income / Arts Workers $10\nAdvance $15\nRegular $20 \nBuy tickets here!
URL:https://918bathurst.com/event/25-years-of-lal/
LOCATION:918 Bathurst: Culture\, Arts\, Media & Education\, 918 Bathurst Street\, Toronto\, ON\, M5R 3G5\, Canada
CATEGORIES:Event,Featured Event
ATTACH;FMTTYPE=image/png:https://918bathurst.com/wp-content/uploads/2023/10/Screen-Shot-2023-10-19-at-12.02.32-PM.png
END:VEVENT
BEGIN:VEVENT
DTSTART;TZID=UTC:20240201T183000
DTEND;TZID=UTC:20240201T200000
DTSTAMP:20260420T023325
CREATED:20240130T195200Z
LAST-MODIFIED:20240130T195200Z
UID:18683-1706812200-1706817600@918bathurst.com
SUMMARY:Music Gallery Presents: Improvisation in Art and Life
DESCRIPTION:A multi-disciplinary practice in improvisation with Nilan Perera. This hands-on workshop explores ways that various mediums can be improvisational.\nIt is not limited to music\, people of many disciplines are welcome to partake in this process. This can include but is not limited to poetry\, writing\, and dance.\nWe don’t anticipate community members being proficient musicians\nIf you have instruments\, poems\, or works you wish to iterate on via improvisation\, please bring them along!\nThis workshop is designed to show\, through direct examples\, that anyone can create through improvisation\, and that the process of original art creation is not only within your means\, but a critical form of communal expression.
URL:https://918bathurst.com/event/music-gallery-presents-improvisation-in-art-and-life/
LOCATION:918 Bathurst: Culture\, Arts\, Media & Education\, 918 Bathurst Street\, Toronto\, ON\, M5R 3G5\, Canada
CATEGORIES:Event,Featured Event
ATTACH;FMTTYPE=image/jpeg:https://918bathurst.com/wp-content/uploads/2024/01/Workshops-2024-feb1-768x768-1.jpeg
END:VEVENT
BEGIN:VEVENT
DTSTART;TZID=UTC:20240203T193000
DTEND;TZID=UTC:20240203T230000
DTSTAMP:20260420T023325
CREATED:20240130T202949Z
LAST-MODIFIED:20240130T202949Z
UID:18700-1706988600-1707001200@918bathurst.com
SUMMARY:On the Washed up
DESCRIPTION:VCRTAPES CLEANS UP HIS ACT\, TO HANG IT UP ON STAGE
URL:https://918bathurst.com/event/on-the-washed-up/
LOCATION:918 Bathurst: Culture\, Arts\, Media & Education\, 918 Bathurst Street\, Toronto\, ON\, M5R 3G5\, Canada
CATEGORIES:Event,Featured Event
ATTACH;FMTTYPE=image/jpeg:https://918bathurst.com/wp-content/uploads/2024/01/thumbnail_image002.jpeg
END:VEVENT
BEGIN:VEVENT
DTSTART;TZID=UTC:20240208T183000
DTEND;TZID=UTC:20240208T203000
DTSTAMP:20260420T023325
CREATED:20240130T195526Z
LAST-MODIFIED:20240130T195526Z
UID:18686-1707417000-1707424200@918bathurst.com
SUMMARY:Music Gallery Presents: Conceptualizing a Grantable Idea
DESCRIPTION:A hands on workshop on how to ideate grant-ready projects. \nWant to apply for a grant\, but don’t know where to begin? This free workshop is dedicated to helping artists of all disciplines come up with grantable concepts. \nThis interactive session aims to guide artists through hands-on exercises to refine their project concepts. By honing your ideas\, this workshop equips you to present focused and compelling proposals for grants and juries.
URL:https://918bathurst.com/event/music-gallery-presents-conceptualizing-a-grantable-idea/
LOCATION:918 Bathurst: Culture\, Arts\, Media & Education\, 918 Bathurst Street\, Toronto\, ON\, M5R 3G5\, Canada
CATEGORIES:Event,Featured Event
ATTACH;FMTTYPE=image/jpeg:https://918bathurst.com/wp-content/uploads/2024/01/Workshops-2024-feb8-768x768-1.jpeg
END:VEVENT
BEGIN:VEVENT
DTSTART;TZID=UTC:20240215T190000
DTEND;TZID=UTC:20240215T210000
DTSTAMP:20260420T023325
CREATED:20240130T195817Z
LAST-MODIFIED:20240130T201420Z
UID:18690-1708023600-1708030800@918bathurst.com
SUMMARY:Music Gallery Presents: Listening and Sounding In the Dark with Anne Bourne
DESCRIPTION:In partnership with Venus Fest\, we present a deep listening session with Anne Bourne.  Exploring the themes of listening in the dark \nA series of circles for listening meditation and to practice sounding Oliveros Tuning meditation. \nThe event will draw minimal electricity to offer a shared experience of perception in darkness. \nGenerate safe space through expanded sensory perception\, discernment and attention. \nAn opportunity to accumulate choral soundfields in community as experiential peace activism.
URL:https://918bathurst.com/event/music-gallery-presents-listening-and-sounding-in-the-dark-with-anne-bourne/
LOCATION:918 Bathurst: Culture\, Arts\, Media & Education\, 918 Bathurst Street\, Toronto\, ON\, M5R 3G5\, Canada
CATEGORIES:Event,Featured Event
ATTACH;FMTTYPE=image/jpeg:https://918bathurst.com/wp-content/uploads/2024/01/Workshops-2024-feb15-768x768-1.jpeg
END:VEVENT
END:VCALENDAR