BEGIN:VCALENDAR
VERSION:2.0
PRODID:-//918 Bathurst - ECPv6.15.20//NONSGML v1.0//EN
CALSCALE:GREGORIAN
METHOD:PUBLISH
X-WR-CALNAME:918 Bathurst
X-ORIGINAL-URL:https://918bathurst.com
X-WR-CALDESC:Events for 918 Bathurst
REFRESH-INTERVAL;VALUE=DURATION:PT1H
X-Robots-Tag:noindex
X-PUBLISHED-TTL:PT1H
BEGIN:VTIMEZONE
TZID:UTC
BEGIN:STANDARD
TZOFFSETFROM:+0000
TZOFFSETTO:+0000
TZNAME:UTC
DTSTART:20240101T000000
END:STANDARD
END:VTIMEZONE
BEGIN:VEVENT
DTSTART;TZID=UTC:20250729T180000
DTEND;TZID=UTC:20250729T210000
DTSTAMP:20260420T045217
CREATED:20250619T221347Z
LAST-MODIFIED:20250725T161018Z
UID:19258-1753812000-1753822800@918bathurst.com
SUMMARY:BELT COMMUNITY CHOIR EVENT / ONE DAY MORE / LES MISÉRABLE
DESCRIPTION:🎶 Join BELT’s Musical Theatre Community Choir!\nJoin BELT as we launch our very first Musical Theatre Community Choir—a welcoming\, no-pressure space for anyone who loves to sing\, regardless of experience or skill level! \nThis is a drop-in style rehearsal\, perfect for anyone who wants to have fun\, meet fellow musical theatre lovers\, and belt out some iconic show tunes. No auditions\, no previous singing experience\, and no commitment required—just come along and enjoy the joy of singing in a group! \nFor our first rehearsal\, we’ll be learning the powerful ensemble number “One Day More” from Les Misérables. Whether you’re a seasoned performer or just someone who sings in the shower\, this is your chance to experience the thrill of singing together as a community. \n🎤 What to Expect:\nA relaxed and friendly environment\nGuidance from passionate musical theatre leaders\nA chance to learn harmonies and sing with others\nA whole lot of fun!
URL:https://918bathurst.com/event/belt-community-choir-event-one-day-more-les-miserable/
LOCATION:918 Bathurst: Culture\, Arts\, Media & Education\, 918 Bathurst Street\, Toronto\, ON\, M5R 3G5\, Canada
CATEGORIES:Event,Featured Event
ATTACH;FMTTYPE=image/jpeg:https://918bathurst.com/wp-content/uploads/2025/06/SnapInsta.to_508339797_17851894977468770_570950144173990636_n.jpg
END:VEVENT
END:VCALENDAR