BEGIN:VCALENDAR
VERSION:2.0
PRODID:-//918 Bathurst - ECPv6.15.20//NONSGML v1.0//EN
CALSCALE:GREGORIAN
METHOD:PUBLISH
X-WR-CALNAME:918 Bathurst
X-ORIGINAL-URL:https://918bathurst.com
X-WR-CALDESC:Events for 918 Bathurst
REFRESH-INTERVAL;VALUE=DURATION:PT1H
X-Robots-Tag:noindex
X-PUBLISHED-TTL:PT1H
BEGIN:VTIMEZONE
TZID:UTC
BEGIN:STANDARD
TZOFFSETFROM:+0000
TZOFFSETTO:+0000
TZNAME:UTC
DTSTART:20240101T000000
END:STANDARD
END:VTIMEZONE
BEGIN:VEVENT
DTSTART;TZID=UTC:20250424T180000
DTEND;TZID=UTC:20250424T200000
DTSTAMP:20260420T212937
CREATED:20250205T221634Z
LAST-MODIFIED:20250205T221916Z
UID:19105-1745517600-1745524800@918bathurst.com
SUMMARY:Music Gallery Presents: Songwriting as a Group Workshop
DESCRIPTION:Tallawah Music Scapes presents a fun rudimental exploration of music through dynamic playful collaboration. \nLearn how to write lyrics and music by tapping into your individual and group intuition. Through sharing space and observant listening\, hear how a piece can sonically develop by finding the hidden connections in collaborative play. \nThis hands-on interactive workshop is for all\, no musical or songwriting experience needed. \nFeel free to bring lyrical and musical snippets\, though no advance prep is required. \nLimited spots\, don’t wait. \nAll prices inclusive of HST \nPWYC $5 to $15\, or get a membership to attend all workshops for free.
URL:https://918bathurst.com/event/music-gallery-presents-songwriting-as-a-group-workshop/
LOCATION:918 Bathurst: Culture\, Arts\, Media & Education\, 918 Bathurst Street\, Toronto\, ON\, M5R 3G5\, Canada
CATEGORIES:Event,Featured Event
ATTACH;FMTTYPE=image/jpeg:https://918bathurst.com/wp-content/uploads/2025/02/Snapinst.app_476411348_18484975936045586_7461503167472066913_n_1080.jpg
END:VEVENT
BEGIN:VEVENT
DTSTART;TZID=UTC:20250425T080000
DTEND;TZID=UTC:20250425T183000
DTSTAMP:20260420T212937
CREATED:20250327T153803Z
LAST-MODIFIED:20250327T153803Z
UID:19154-1745568000-1745605800@918bathurst.com
SUMMARY:RISE Presents: 416 R.I.S.E 2025
DESCRIPTION:Join us for the RISE + Flow Finale & Vendor Market! What does 13 mean to RISE? In many cultures\, 13 is a number of transformation\, of pushing past limitations\, and of finding strength in adversity. For RISE\, it represents 13 years of empowering artists to rewrite their narratives\, to turn challenges into triumphs\, and to defy the odds stacked against them. It’s a symbol of the community’s resilience\, unwavering spirit\, and commitment to creating space for voices that deserve to be heard! \nCelebrate 13 years of defying expectations! \nFor more information and tickets\, click here
URL:https://918bathurst.com/event/rise-presents-416-r-i-s-e-2025/
LOCATION:918 Bathurst: Culture\, Arts\, Media & Education\, 918 Bathurst Street\, Toronto\, ON\, M5R 3G5\, Canada
CATEGORIES:Event,Featured Event
ATTACH;FMTTYPE=image/jpeg:https://918bathurst.com/wp-content/uploads/2025/03/416RiSE.jpg
END:VEVENT
BEGIN:VEVENT
DTSTART;TZID=UTC:20250426T183000
DTEND;TZID=UTC:20250426T210000
DTSTAMP:20260420T212937
CREATED:20250327T154230Z
LAST-MODIFIED:20250327T154230Z
UID:19156-1745692200-1745701200@918bathurst.com
SUMMARY:Fresh Drops: Dance Workshop
DESCRIPTION:Fresh Drops will be hosting a two day dance hall dance workshop in our main Sanctuary space. Registration is currently open. \nFor more information\, click here
URL:https://918bathurst.com/event/fresh-drops-dance-workshop/2025-04-26/
LOCATION:918 Bathurst: Culture\, Arts\, Media & Education\, 918 Bathurst Street\, Toronto\, ON\, M5R 3G5\, Canada
CATEGORIES:Event,Featured Event
ATTACH;FMTTYPE=image/jpeg:https://918bathurst.com/wp-content/uploads/2025/03/frreshdrops2.jpg
END:VEVENT
BEGIN:VEVENT
DTSTART;TZID=UTC:20250427T183000
DTEND;TZID=UTC:20250427T210000
DTSTAMP:20260420T212937
CREATED:20250327T154230Z
LAST-MODIFIED:20250327T154230Z
UID:19158-1745778600-1745787600@918bathurst.com
SUMMARY:Fresh Drops: Dance Workshop
DESCRIPTION:Fresh Drops will be hosting a two day dance hall dance workshop in our main Sanctuary space. Registration is currently open. \nFor more information\, click here
URL:https://918bathurst.com/event/fresh-drops-dance-workshop/2025-04-27/
LOCATION:918 Bathurst: Culture\, Arts\, Media & Education\, 918 Bathurst Street\, Toronto\, ON\, M5R 3G5\, Canada
CATEGORIES:Event,Featured Event
ATTACH;FMTTYPE=image/jpeg:https://918bathurst.com/wp-content/uploads/2025/03/frreshdrops2.jpg
END:VEVENT
END:VCALENDAR