BEGIN:VCALENDAR
VERSION:2.0
PRODID:-//918 Bathurst - ECPv6.15.20//NONSGML v1.0//EN
CALSCALE:GREGORIAN
METHOD:PUBLISH
X-ORIGINAL-URL:https://918bathurst.com
X-WR-CALDESC:Events for 918 Bathurst
REFRESH-INTERVAL;VALUE=DURATION:PT1H
X-Robots-Tag:noindex
X-PUBLISHED-TTL:PT1H
BEGIN:VTIMEZONE
TZID:UTC
BEGIN:STANDARD
TZOFFSETFROM:+0000
TZOFFSETTO:+0000
TZNAME:UTC
DTSTART:20240101T000000
END:STANDARD
END:VTIMEZONE
BEGIN:VEVENT
DTSTART;TZID=UTC:20250327T180000
DTEND;TZID=UTC:20250327T200000
DTSTAMP:20260420T195340
CREATED:20250205T221433Z
LAST-MODIFIED:20250205T221433Z
UID:19102-1743098400-1743105600@918bathurst.com
SUMMARY:Music Gallery Presents: ‘Do Easy’: Vinyl Interventions for the Relaxed DJ Workshop
DESCRIPTION:What does it mean to be a vinyl DJ in 2025? More or less the same thing it has since the Technics 1200 MkII turntable was invented in 1979. \nIn this workshop\, Destiny will demonstrate how the mechanics of these beloved direct drive turntables and vinyl records themselves loan a fluidity to the human operator. Vinyl DJing can be elevated to a pseudo-mystical exercise of intuition\, muscle memory and telekinetic channeling. It is a craft that rewards the flow state\, discourages tolerance for nervous energy and in which the discs themselves become conduits of some of the best kinds of shared human energetic experience: joy\, togetherness\, ecstasy\, release\, trust and transformation. \nThis workshop covers techniques of open listening and mixing from a vast array of genres to put together sounds that feel uniquely you. \nLimited spots\, don’t wait. \nAll prices inclusive of HST \nPWYC $5 to $15\, or get a membership to attend all workshops for free.
URL:https://918bathurst.com/event/music-gallery-presents-do-easy-vinyl-interventions-for-the-relaxed-dj-workshop/
LOCATION:918 Bathurst: Culture\, Arts\, Media & Education\, 918 Bathurst Street\, Toronto\, ON\, M5R 3G5\, Canada
CATEGORIES:Event,Featured Event
ATTACH;FMTTYPE=image/jpeg:https://918bathurst.com/wp-content/uploads/2025/02/Snapinst.app_476325979_18484975879045586_8993034512069174074_n_1080.jpg
END:VEVENT
BEGIN:VEVENT
DTSTART;TZID=UTC:20250329T160000
DTEND;TZID=UTC:20250329T230000
DTSTAMP:20260420T195340
CREATED:20250311T234625Z
LAST-MODIFIED:20250311T234625Z
UID:19125-1743264000-1743289200@918bathurst.com
SUMMARY:Your Dance Class Presents: Star Signs
DESCRIPTION:Dancing Through the Cosmos \nPrepare for liftoff as Your Dance Class invites you aboard the SS Zodiaque\, the ultimate intergalactic dance voyage! Get ready to cruise through the zodiac as we bring the constellations to life with electrifying choreography\, celestial storytelling\, and cosmic energy in our all-new original production: Star Signs \n\nLOCATION: 918 Bathurst (918 Bathurst St\, Toronto)\nDATE: Saturday\, March 29 2025\nDOORS: 4:00 pm\nSHOW STARTS: 4:30 pm\nRUN TIME: Approx 90 Minutes\nINTERMISSION: 15 Min\n\nDrinks and light snacks will be available for purchase at the bar\, so you can sip and snack while enjoying the show. Plus\, don’t miss your chance to grab limited-edition Star Signs merch—only available at the event! 🚀🌌 \n\nGeneral Admission $30\nIncludes general admission seating. \n\nUpgraded General Admission $55 ($75 VALUE)\nIncludes priority seating access and x2 drink tickets. \nPlease be advised that General Admission seating is arranged on a first-come\, first-served basis. Refunds are not available once tickets have been purchased. Thank you for your cooperation.
URL:https://918bathurst.com/event/your-dance-class-presents-star-signs/
LOCATION:918 Bathurst: Culture\, Arts\, Media & Education\, 918 Bathurst Street\, Toronto\, ON\, M5R 3G5\, Canada
CATEGORIES:Event,Featured Event
ATTACH;FMTTYPE=image/png:https://918bathurst.com/wp-content/uploads/2025/03/Sorina-Colyn-Matinee-Ticket-Graphic-3.png
END:VEVENT
END:VCALENDAR