BEGIN:VCALENDAR
VERSION:2.0
PRODID:-//918 Bathurst - ECPv6.15.20//NONSGML v1.0//EN
CALSCALE:GREGORIAN
METHOD:PUBLISH
X-WR-CALNAME:918 Bathurst
X-ORIGINAL-URL:https://918bathurst.com
X-WR-CALDESC:Events for 918 Bathurst
REFRESH-INTERVAL;VALUE=DURATION:PT1H
X-Robots-Tag:noindex
X-PUBLISHED-TTL:PT1H
BEGIN:VTIMEZONE
TZID:UTC
BEGIN:STANDARD
TZOFFSETFROM:+0000
TZOFFSETTO:+0000
TZNAME:UTC
DTSTART:20240101T000000
END:STANDARD
END:VTIMEZONE
BEGIN:VEVENT
DTSTART;TZID=UTC:20250313T180000
DTEND;TZID=UTC:20250313T190000
DTSTAMP:20260421T003117
CREATED:20250205T221233Z
LAST-MODIFIED:20250205T221253Z
UID:19098-1741888800-1741892400@918bathurst.com
SUMMARY:Music Gallery Presents: Intro to Lighting for Music
DESCRIPTION:A two-hour hands-on and demonstrative workshop centered on lighting’s close relationship to sound and music. Attendees will learn about colour mixing\, how to consider lighting within musical presentations\, and options for software and hardware (i.e.\, projections\, LEDs and lasers). This workshop is intended for beginners and artists looking to complement their sonic presentations with light. \nPWYC $5 to $15\, or get a membership to attend all workshops for free.
URL:https://918bathurst.com/event/intro-to-lighting-for-music/
LOCATION:918 Bathurst: Culture\, Arts\, Media & Education\, 918 Bathurst Street\, Toronto\, ON\, M5R 3G5\, Canada
CATEGORIES:Event,Featured Event
ATTACH;FMTTYPE=image/jpeg:https://918bathurst.com/wp-content/uploads/2025/02/Snapinst.app_475535194_18484975813045586_6143457817962739733_n_1080.jpg
END:VEVENT
BEGIN:VEVENT
DTSTART;TZID=UTC:20250314T190000
DTEND;TZID=UTC:20250314T220000
DTSTAMP:20260421T003117
CREATED:20250306T213739Z
LAST-MODIFIED:20250306T213739Z
UID:19119-1741978800-1741989600@918bathurst.com
SUMMARY:She The Company Presents: The Unmasking
DESCRIPTION:The Unmasking is a transformative dance experience that invites audiences into an intimate journey of shedding the layers that hide our truest selves. Through a dynamic fusion of heels\, contemporary\, and storytelling movement\, this show explores the raw complexities of identity\, self-perception\, and the liberation that comes with vulnerability. \nFriday\, March 14th • Doors: 7pm • Show: 8pm\nSunday\, March 16th • Doors: 7pm • Show: 8pm
URL:https://918bathurst.com/event/she-the-company-presents-the-unmasking/2025-03-14/
LOCATION:918 Bathurst: Culture\, Arts\, Media & Education\, 918 Bathurst Street\, Toronto\, ON\, M5R 3G5\, Canada
CATEGORIES:Event,Featured Event
ATTACH;FMTTYPE=image/jpeg:https://918bathurst.com/wp-content/uploads/2025/03/Snapinsta.app_476747554_18478440199043068_3276550265975629869_n_1080.jpg
END:VEVENT
BEGIN:VEVENT
DTSTART;TZID=UTC:20250316T190000
DTEND;TZID=UTC:20250316T220000
DTSTAMP:20260421T003117
CREATED:20250306T213739Z
LAST-MODIFIED:20250306T213739Z
UID:19121-1742151600-1742162400@918bathurst.com
SUMMARY:She The Company Presents: The Unmasking
DESCRIPTION:The Unmasking is a transformative dance experience that invites audiences into an intimate journey of shedding the layers that hide our truest selves. Through a dynamic fusion of heels\, contemporary\, and storytelling movement\, this show explores the raw complexities of identity\, self-perception\, and the liberation that comes with vulnerability. \nFriday\, March 14th • Doors: 7pm • Show: 8pm\nSunday\, March 16th • Doors: 7pm • Show: 8pm
URL:https://918bathurst.com/event/she-the-company-presents-the-unmasking/2025-03-16/
LOCATION:918 Bathurst: Culture\, Arts\, Media & Education\, 918 Bathurst Street\, Toronto\, ON\, M5R 3G5\, Canada
CATEGORIES:Event,Featured Event
ATTACH;FMTTYPE=image/jpeg:https://918bathurst.com/wp-content/uploads/2025/03/Snapinsta.app_476747554_18478440199043068_3276550265975629869_n_1080.jpg
END:VEVENT
END:VCALENDAR