BEGIN:VCALENDAR
VERSION:2.0
PRODID:-//918 Bathurst - ECPv6.15.20//NONSGML v1.0//EN
CALSCALE:GREGORIAN
METHOD:PUBLISH
X-WR-CALNAME:918 Bathurst
X-ORIGINAL-URL:https://918bathurst.com
X-WR-CALDESC:Events for 918 Bathurst
REFRESH-INTERVAL;VALUE=DURATION:PT1H
X-Robots-Tag:noindex
X-PUBLISHED-TTL:PT1H
BEGIN:VTIMEZONE
TZID:UTC
BEGIN:STANDARD
TZOFFSETFROM:+0000
TZOFFSETTO:+0000
TZNAME:UTC
DTSTART:20240101T000000
END:STANDARD
END:VTIMEZONE
BEGIN:VEVENT
DTSTART;TZID=UTC:20250202T150000
DTEND;TZID=UTC:20250202T173000
DTSTAMP:20260421T003051
CREATED:20250131T181919Z
LAST-MODIFIED:20250131T181919Z
UID:19079-1738508400-1738517400@918bathurst.com
SUMMARY:Isla Craig: Improvised New Age Music
DESCRIPTION:Join us for an afternoon show in our Sun Room\, featuring the new age improvisations by Isla Craig\, performed by @mr.jo.bangles & @mdcoldwell. \nTickets available at the door.
URL:https://918bathurst.com/event/isla-craig-improvised-new-age-music/
LOCATION:918 Bathurst: Culture\, Arts\, Media & Education\, 918 Bathurst Street\, Toronto\, ON\, M5R 3G5\, Canada
CATEGORIES:Event,Featured Event
ATTACH;FMTTYPE=image/jpeg:https://918bathurst.com/wp-content/uploads/2025/01/Snapinst.app_474528624_1362168724778805_3618184279297579996_n_1080-1.jpg
END:VEVENT
END:VCALENDAR