BEGIN:VCALENDAR
VERSION:2.0
PRODID:-//918 Bathurst - ECPv6.15.20//NONSGML v1.0//EN
CALSCALE:GREGORIAN
METHOD:PUBLISH
X-WR-CALNAME:918 Bathurst
X-ORIGINAL-URL:https://918bathurst.com
X-WR-CALDESC:Events for 918 Bathurst
REFRESH-INTERVAL;VALUE=DURATION:PT1H
X-Robots-Tag:noindex
X-PUBLISHED-TTL:PT1H
BEGIN:VTIMEZONE
TZID:UTC
BEGIN:STANDARD
TZOFFSETFROM:+0000
TZOFFSETTO:+0000
TZNAME:UTC
DTSTART:20240101T000000
END:STANDARD
END:VTIMEZONE
BEGIN:VEVENT
DTSTART;TZID=UTC:20250110T160000
DTEND;TZID=UTC:20250110T210000
DTSTAMP:20260421T015235
CREATED:20241121T024513Z
LAST-MODIFIED:20241121T024513Z
UID:19059-1736524800-1736542800@918bathurst.com
SUMMARY:TORONTO SYSTEM RESET EXPERIENCE™️ : Breathe | Dance | Meditate | Biohack
DESCRIPTION:Ever wonder what it would be like to press “RESET” on your mind\, body & emotions? Come experience your greatest breakthrough yet. \nWHY EXPERIENCE SYSTEM RESET™️? \nBecause it’s like hitting “reset” on your mind\, body and emotions so that you FEEL like your true self again\, leaving you refreshed and resilient. It is an immersive wellness experience that cultivates breakthroughs and self healing. You will learn tools of transformation through breathwork\, meditation\, sound healing and ecstatic dance that you can integrate into your daily life. \n💧 F€€L the self healing power of re-coding the water systems of your body to create happiness\, harmony and balance in your cells \n⬆️ €L€VΛT€ your consciousness with guided breathwork\, meditation and ecstatic dance in group coherence with a live DJ & Breathwork Expert NOA|AON \n💙 ÏMM€RS€ yourself in the transformation magic of live sound therapy and a heart opening Methylene Blue activation ceremony \n🙏🏼 MΛST€R trauma release\, emotional resilience\, relationship harmonization and true abundance \n🧬 ŪNL€ΛSH the potential within you through cutting-edge biohacking technology \nWHO IS THIS EXPERIENCE FOR? \nTotal beginner or advanced meditator/ breather (we will meet you at what level you are at). \nIf you are: seeking transformation from past trauma\, purpose/ belonging\, effective techniques\, deepening existing practice\, or struggling with PTSD\, addictions\, fear\, and anxiety this is for YOU. \nWHAT ARE THE SCIENTIFIC BENEFITS OF SYSTEM RESET™️? \nPromotes overall holistic wellness and balance of the biosystem: \n🙂 Emotional Wellness: stress reduction\, anxiety control\, increased energy\, emotional balance\, self awareness\, kindness and addiction support \n👐🏼 Physical Wellness: blood pressure regulation\, immune boost\, anti-inflammatory\, heart and lung health\, muscular strength\, endurance\, and better sleep \nWHAT TO BRING \nYoga mat & optional blanket/ journal \nLOCATION/ TIME: \n918 Bathurst St. \n918 Bathurst Street\, Toronto\, ON M5R 3G5 \n4:00pm – 9:00pm EST
URL:https://918bathurst.com/event/toronto-system-reset-experience%ef%b8%8f-breathe-dance-meditate-biohack/
LOCATION:918 Bathurst: Culture\, Arts\, Media & Education\, 918 Bathurst Street\, Toronto\, ON\, M5R 3G5\, Canada
CATEGORIES:Event,Featured Event
ATTACH;FMTTYPE=image/png:https://918bathurst.com/wp-content/uploads/2024/05/Screen-Shot-2024-05-13-at-4.18.18-PM.png
END:VEVENT
END:VCALENDAR