BEGIN:VCALENDAR
VERSION:2.0
PRODID:-//918 Bathurst - ECPv6.15.20//NONSGML v1.0//EN
CALSCALE:GREGORIAN
METHOD:PUBLISH
X-WR-CALNAME:918 Bathurst
X-ORIGINAL-URL:https://918bathurst.com
X-WR-CALDESC:Events for 918 Bathurst
REFRESH-INTERVAL;VALUE=DURATION:PT1H
X-Robots-Tag:noindex
X-PUBLISHED-TTL:PT1H
BEGIN:VTIMEZONE
TZID:UTC
BEGIN:STANDARD
TZOFFSETFROM:+0000
TZOFFSETTO:+0000
TZNAME:UTC
DTSTART:20230101T000000
END:STANDARD
END:VTIMEZONE
BEGIN:VEVENT
DTSTART;TZID=UTC:20241115T170000
DTEND;TZID=UTC:20241115T210000
DTSTAMP:20260421T132521
CREATED:20241017T183853Z
LAST-MODIFIED:20241017T183853Z
UID:19025-1731690000-1731704400@918bathurst.com
SUMMARY:Rang Mahal: A Tribute to the Art of Mujra
DESCRIPTION:Rang Mahal is a tribute to the artistry of the Mughal period\, transporting audiences to an era of opulent courts and poetic expressions. This mesmerizing immersive show blends the sounds and rhythms of thumris and Hindustani classical music with the intricate and expressive movements of Kathak dance.\nJoin us for an unforgettable journey through the melodies and movements that exist in the soul of South Asian art\, and experience the magic of mujra like never before.
URL:https://918bathurst.com/event/rang-mahal-a-tribute-to-the-art-of-mujra/
LOCATION:918 Bathurst: Culture\, Arts\, Media & Education\, 918 Bathurst Street\, Toronto\, ON\, M5R 3G5\, Canada
CATEGORIES:Event,Featured Event
ATTACH;FMTTYPE=image/png:https://918bathurst.com/wp-content/uploads/2024/10/Screen-Shot-2024-10-05-at-1.46.38-PM.png
END:VEVENT
BEGIN:VEVENT
DTSTART;TZID=UTC:20241116T190000
DTEND;TZID=UTC:20241116T220000
DTSTAMP:20260421T132521
CREATED:20241106T010534Z
LAST-MODIFIED:20241106T011044Z
UID:19035-1731783600-1731794400@918bathurst.com
SUMMARY:Beytooteh 12th Anniversary
DESCRIPTION:Join us for a monthly celebration of culture and creativity\, featuring the vibrant talents of local diaspora artists. Immerse yourself in the rich tapestry of Toronto’s artistic community while enjoying craft beers\, ciders\, and unique offerings from local art vendors. \nExperience live performances from some of the city’s most inspiring artists\, and this time\, we’re thrilled to welcome an international lineup\, bringing together diverse voices to bridge the cultural gaps that unite us all. Don’t miss this inspiring evening where art\, culture\, and community come together in perfect harmony! \nFor more information and tickets\, click here.
URL:https://918bathurst.com/event/beytooteh-12th-anniversary/
LOCATION:918 Bathurst: Culture\, Arts\, Media & Education\, 918 Bathurst Street\, Toronto\, ON\, M5R 3G5\, Canada
CATEGORIES:Event,Featured Event
ATTACH;FMTTYPE=image/png:https://918bathurst.com/wp-content/uploads/2024/11/Screen-Shot-2024-11-04-at-3.47.16-PM.png
END:VEVENT
END:VCALENDAR