BEGIN:VCALENDAR
VERSION:2.0
PRODID:-//918 Bathurst - ECPv6.15.20//NONSGML v1.0//EN
CALSCALE:GREGORIAN
METHOD:PUBLISH
X-ORIGINAL-URL:https://918bathurst.com
X-WR-CALDESC:Events for 918 Bathurst
REFRESH-INTERVAL;VALUE=DURATION:PT1H
X-Robots-Tag:noindex
X-PUBLISHED-TTL:PT1H
BEGIN:VTIMEZONE
TZID:UTC
BEGIN:STANDARD
TZOFFSETFROM:+0000
TZOFFSETTO:+0000
TZNAME:UTC
DTSTART:20240101T000000
END:STANDARD
END:VTIMEZONE
BEGIN:VEVENT
DTSTART;TZID=UTC:20251017T193000
DTEND;TZID=UTC:20251017T220000
DTSTAMP:20260419T120923
CREATED:20250910T160553Z
LAST-MODIFIED:20250918T215950Z
UID:19440-1760729400-1760738400@918bathurst.com
SUMMARY:X Avant XX Night 3 - Gathering\, Metamorphic\, Recollection
DESCRIPTION:Night 3 curated by David Dacks (MG AD 2011-2020\, ED 2021-2023) is a play of past and present syncing together to create imaginative and uncharted resonances.\nThis year is special. As we celebrate 50 years of history & 20 years of X Avant\, we’ve gathered 5 curators to take over 918 Bathurst to enliven and celebrate 5 eras of precious sound.  \nDavid says\, “Tonight’s programming is less about a grand musical concept. It speaks more to a certain amount of symmetry on a personal level. \nOne of the earliest curatorial decisions I made when heading the “World Avant” stream of programming in 2011 was Dublab’s visit to Toronto with their Tonalism be-in. Among the artists were Not The Wind Not The Flag\, composed of Brandon Valdivia and Colin Fisher. I’ve worked with Colin many times in many settings over the years and he is a brilliant soloist and collaborator with\, I think\, the best electronic setup of anyone I know. Fast forward to the present and I am now with Labyrinth Ontario\, where I’ve met the brilliant gayageum player Roa Lee. Her facility with modal music in an ensemble and outstanding solo ability make jaws drop and eyes well up wherever she plays. I can’t wait to see past and present join together for their first ever encounter of deeply emotive improvisation. \nFurthering the sense of symmetry – if Colin represents the beginning of my programming tenure at the MG\, Yaz Lancaster’s work was introduced to me by MG curator Sara Constant during the pandemic towards the very end of my time as AD in 2020. They presented a selection of livestreamed works for violin/voice/electronics from their home\, as one did at that time. I’m so glad that we can celebrate the release of their new album AFTER in person at 918 Bathurst where their detailed sound design will be beautifully focused by the room’s acoustics.”
URL:https://918bathurst.com/event/x-avant-xx-night-3/
LOCATION:918 Bathurst: Culture\, Arts\, Media & Education\, 918 Bathurst Street\, Toronto\, ON\, M5R 3G5\, Canada
CATEGORIES:Event,Featured Event
ATTACH;FMTTYPE=image/jpeg:https://918bathurst.com/wp-content/uploads/2025/09/17.jpg
END:VEVENT
END:VCALENDAR