BEGIN:VCALENDAR
VERSION:2.0
PRODID:-//918 Bathurst - ECPv6.15.20//NONSGML v1.0//EN
CALSCALE:GREGORIAN
METHOD:PUBLISH
X-WR-CALNAME:918 Bathurst
X-ORIGINAL-URL:https://918bathurst.com
X-WR-CALDESC:Events for 918 Bathurst
REFRESH-INTERVAL;VALUE=DURATION:PT1H
X-Robots-Tag:noindex
X-PUBLISHED-TTL:PT1H
BEGIN:VTIMEZONE
TZID:UTC
BEGIN:STANDARD
TZOFFSETFROM:+0000
TZOFFSETTO:+0000
TZNAME:UTC
DTSTART:20240101T000000
END:STANDARD
END:VTIMEZONE
BEGIN:VEVENT
DTSTART;TZID=UTC:20250625T180000
DTEND;TZID=UTC:20250625T210000
DTSTAMP:20260420T071419
CREATED:20250531T001053Z
LAST-MODIFIED:20250531T001053Z
UID:19247-1750874400-1750885200@918bathurst.com
SUMMARY:Unsinkable Presents: Wavelengths
DESCRIPTION:For one unforgettable night only\, join us for Wavelengths\, the very first live storytelling showcase from Unsinkable—and we’re doing it big. \nWe’ve taken five fearless voices from the page to the stage. After two months of deep dives\, edits\, and heart-spilling moments\, these storytellers are ready to share their lived experiences live and unfiltered. This is their graduation\, celebration\, and coming-out party all in one—and you’ve got front row seats. \nThink TED Talk meets kitchen party. This isn’t just a show\, it’s a soirée. \nBring your heart. Bring your curiosity. Bring a friend. But whatever you do—don’t miss this. \nFor more information and tickets\, click here
URL:https://918bathurst.com/event/unsinkable-presents-wavelengths/
LOCATION:918 Bathurst: Culture\, Arts\, Media & Education\, 918 Bathurst Street\, Toronto\, ON\, M5R 3G5\, Canada
CATEGORIES:Event,Featured Event
ATTACH;FMTTYPE=image/png:https://918bathurst.com/wp-content/uploads/2025/05/495335338_994726876197996_1119432445061883549_n-1.png
END:VEVENT
END:VCALENDAR