BEGIN:VCALENDAR
VERSION:2.0
PRODID:-//918 Bathurst - ECPv6.15.20//NONSGML v1.0//EN
CALSCALE:GREGORIAN
METHOD:PUBLISH
X-WR-CALNAME:918 Bathurst
X-ORIGINAL-URL:https://918bathurst.com
X-WR-CALDESC:Events for 918 Bathurst
REFRESH-INTERVAL;VALUE=DURATION:PT1H
X-Robots-Tag:noindex
X-PUBLISHED-TTL:PT1H
BEGIN:VTIMEZONE
TZID:UTC
BEGIN:STANDARD
TZOFFSETFROM:+0000
TZOFFSETTO:+0000
TZNAME:UTC
DTSTART:20240101T000000
END:STANDARD
END:VTIMEZONE
BEGIN:VEVENT
DTSTART;TZID=UTC:20250619T193000
DTEND;TZID=UTC:20250619T213000
DTSTAMP:20260420T071242
CREATED:20250516T165903Z
LAST-MODIFIED:20250516T165903Z
UID:19226-1750361400-1750368600@918bathurst.com
SUMMARY:THE TWO DEATHS OF OPHELIA
DESCRIPTION:THE TWO DEATHS OF OPHELIA conjures a sonic portrait of Ophelia\, reimagining the Shakespearian character while exploring the themes of love\, desire\, madness\, and death. At once sensuous and unsettled\, the rushing current of the sound-world mimics the unpredictable flow of water — pulling and pushing the listener as tones and gestures metamorphose. \nJoin us as we begin our 2025 season with a team of Toronto’s best and boldest\, and embark upon our largest and most ambitious project yet. \nThe Music\nLinda Catlin Smith – Stare at the River\nLinda Catlin Smith – The River+\nShawn Jaeger – Love Is+\nAnn Southam – Rivers (selections)\nWolfgang Rihm – Ophelia Sings\nOliver Knussen – Ophelia Dances\nCharles Wuorinen – Bearbeitungen über das Glogauer Liederbuch\nThomas Adès – Arcadiana (selections)\nLuis Ramirez – new work commissioned by The Happenstancers\, title TBD **\nRyan Chase – Now Wonder Nyce and Straunge **\nKrzysztof Penderecki – Abschied\nClaude Vivier – Bouchara \n** designates world premiere\n+ desisgnates Canadian premiere \nThe Artists\nSimon Rivard\, conductor\nReilly Nelson\, Ophelia One\nDanika Lorèn\, First Ophelia\nJesse Blumberg\, Hamlet One\nDion Mazerolle\, First Hamlet\nLuri Lee\, violin\nSienna Cho\, violin\nHee-Soo Yoon\, violin and viola\nHezekiah Leung\, viola\nPeter Eom\, cello\nTravis Harrison\, double bass\nLenny Ranallo\, guitar\nJoonghun Cho\, keyboards\nWesley Shen\, celeste\nChris James\, flutes\nAleh Remezau\, oboes\nBrad Cherwin\, clarinets\nNicolas Richard\, bassoon\nRyan Garbett\, horn\nDeclan Scott\, trumpet\nNikki Huang\, percussion\nThomas Li\, percussion \nBilly Wong\, lighting\nFish Yu\, electronics\nHoi Tong Keung\, production manager \n 
URL:https://918bathurst.com/event/the-two-deaths-of-ophelia/
LOCATION:918 Bathurst: Culture\, Arts\, Media & Education\, 918 Bathurst Street\, Toronto\, ON\, M5R 3G5\, Canada
CATEGORIES:Event,Featured Event
ATTACH;FMTTYPE=image/png:https://918bathurst.com/wp-content/uploads/2025/05/Screen-Shot-2025-05-16-at-12.56.42-PM.png
END:VEVENT
END:VCALENDAR