BEGIN:VCALENDAR
VERSION:2.0
PRODID:-//918 Bathurst - ECPv6.15.20//NONSGML v1.0//EN
CALSCALE:GREGORIAN
METHOD:PUBLISH
X-ORIGINAL-URL:https://918bathurst.com
X-WR-CALDESC:Events for 918 Bathurst
REFRESH-INTERVAL;VALUE=DURATION:PT1H
X-Robots-Tag:noindex
X-PUBLISHED-TTL:PT1H
BEGIN:VTIMEZONE
TZID:UTC
BEGIN:STANDARD
TZOFFSETFROM:+0000
TZOFFSETTO:+0000
TZNAME:UTC
DTSTART:20240101T000000
END:STANDARD
END:VTIMEZONE
BEGIN:VEVENT
DTSTART;TZID=UTC:20250602T120000
DTEND;TZID=UTC:20250611T170000
DTSTAMP:20260420T071331
CREATED:20250514T152821Z
LAST-MODIFIED:20250514T152821Z
UID:19221-1748865600-1749661200@918bathurst.com
SUMMARY:The Colors and Soul of Korea: Dancheong
DESCRIPTION:To commemorate the 2024–2025 Korea–Canada Years of Cultural Exchange\, OIS ART OF CANADA\, in collaboration with MOOWOOSOO Gallery of Korea\, is pleased to present “ The Colors and Soul of Korea- Dancheong”\, an exhibition that explores the beauty and depth of traditional Korean art. \nThis exhibition highlights the artistic value and philosophy of Dancheong\, the traditional decorative painting found on Korean architecture\, showcasing a wide range of works from ancient craftsmanship to contemporary interpretations. \nA total of 11 artists\, including master Dancheong artisans and contemporary artists\, will participate—offering a unique opportunity to experience the harmony between tradition and modernity. \n🔸 Exhibition Dates: June 2 (Mon) – June 15 (Sun)\, 2025\n🔸 Venue: 918 Bathurst Gallery (918 Bathurst St.\, Toronto\, Ontario)\n🔸 Admission: Free \n🎉 Opening Reception:\n• Date & Time: Friday\, June 6\, 2025 | 5:00 PM – 8:00 PM\n• Program Includes:\n– Lecture by a Dancheong expert\n– Traditional Korean music performance\n– Korean traditional refreshments \nThe Opening Reception will offer a meaningful cultural experience through a talk that explores the history\, symbolism\, and contemporary relevance of Dancheong—along with performances and refreshments to engage all five senses. \nWe warmly invite your interest and participation.
URL:https://918bathurst.com/event/the-colors-and-soul-of-korea-dancheong/
LOCATION:918 Bathurst: Culture\, Arts\, Media & Education\, 918 Bathurst Street\, Toronto\, ON\, M5R 3G5\, Canada
CATEGORIES:Event,Featured Event
ATTACH;FMTTYPE=image/png:https://918bathurst.com/wp-content/uploads/2025/05/OIS-Exhibition-scaled.png
END:VEVENT
END:VCALENDAR