BEGIN:VCALENDAR
VERSION:2.0
PRODID:-//918 Bathurst - ECPv6.15.20//NONSGML v1.0//EN
CALSCALE:GREGORIAN
METHOD:PUBLISH
X-WR-CALNAME:918 Bathurst
X-ORIGINAL-URL:https://918bathurst.com
X-WR-CALDESC:Events for 918 Bathurst
REFRESH-INTERVAL;VALUE=DURATION:PT1H
X-Robots-Tag:noindex
X-PUBLISHED-TTL:PT1H
BEGIN:VTIMEZONE
TZID:UTC
BEGIN:STANDARD
TZOFFSETFROM:+0000
TZOFFSETTO:+0000
TZNAME:UTC
DTSTART:20240101T000000
END:STANDARD
END:VTIMEZONE
BEGIN:VEVENT
DTSTART;TZID=UTC:20250502T183000
DTEND;TZID=UTC:20250502T230000
DTSTAMP:20260420T085956
CREATED:20250417T194550Z
LAST-MODIFIED:20250417T194550Z
UID:19168-1746210600-1746226800@918bathurst.com
SUMMARY:Woosah: Celebrating 20 Years of UHHU
DESCRIPTION:To commemorate UHHU’s 20th anniversary\, this event celebrates and serves as a tribute to our history\, capturing the journey from our origins to the present and looking ahead to the future. We aim to celebrate the artistry and individuality of each dancer and the strength of our team\, reminding our community that dance is more than a lifestyle—it’s a culture. This show honors all who have supported and contributed to UHHU’s legacy\, inviting friends\, family\, and supporters to come together in unity. Above all\, it’s a heartfelt reunion\, embracing the core of UHHU and the reasons it began. \nDETAILS \n\nDate: May 2nd\, 2025\nDoors: 6:30pm\nShow: 7:00-9:00pm\nAfterparty: 9:00-11:00pm\nLocation: 918 Bathurst St.\nEvent Type: Dance Showcase\n19+ cash bar\n\nWe can’t wait to show you what we’ve been working on and to have you a part of our celebration!
URL:https://918bathurst.com/event/woosah-celebrating-20-years-of-uhhu/
LOCATION:918 Bathurst: Culture\, Arts\, Media & Education\, 918 Bathurst Street\, Toronto\, ON\, M5R 3G5\, Canada
CATEGORIES:Event,Featured Event
ATTACH;FMTTYPE=image/png:https://918bathurst.com/wp-content/uploads/2025/04/Screen-Shot-2025-04-17-at-3.44.08-PM.png
END:VEVENT
END:VCALENDAR