BEGIN:VCALENDAR
VERSION:2.0
PRODID:-//918 Bathurst - ECPv6.15.20//NONSGML v1.0//EN
CALSCALE:GREGORIAN
METHOD:PUBLISH
X-WR-CALNAME:918 Bathurst
X-ORIGINAL-URL:https://918bathurst.com
X-WR-CALDESC:Events for 918 Bathurst
REFRESH-INTERVAL;VALUE=DURATION:PT1H
X-Robots-Tag:noindex
X-PUBLISHED-TTL:PT1H
BEGIN:VTIMEZONE
TZID:UTC
BEGIN:STANDARD
TZOFFSETFROM:+0000
TZOFFSETTO:+0000
TZNAME:UTC
DTSTART:20240101T000000
END:STANDARD
END:VTIMEZONE
BEGIN:VEVENT
DTSTART;TZID=UTC:20250406T150000
DTEND;TZID=UTC:20250406T170000
DTSTAMP:20260420T181229
CREATED:20250327T153410Z
LAST-MODIFIED:20250327T153410Z
UID:19147-1743951600-1743958800@918bathurst.com
SUMMARY:Ambient Soundscapes for Babies and Kids
DESCRIPTION:Come join in for a soothing experience in our Sun Room! Immerse yourself in a world of calming sounds\, with synth\, violin\, voice\, and sounds from nature. This event offers a unique auditory journey for all ages. There will be chairs as well as blankets and mats for little ones. Feel free to bring toys\, colouring books\, and snacks for you and your kids\, and experience a different sensory experience from the usual overstimulating fare. \nFor more information\, click here
URL:https://918bathurst.com/event/ambient-soundscapes-for-babies-and-kids/
LOCATION:918 Bathurst: Culture\, Arts\, Media & Education\, 918 Bathurst Street\, Toronto\, ON\, M5R 3G5\, Canada
CATEGORIES:Event,Featured Event
ATTACH;FMTTYPE=image/jpeg:https://918bathurst.com/wp-content/uploads/2025/03/babies-1.jpg
END:VEVENT
END:VCALENDAR