BEGIN:VCALENDAR
VERSION:2.0
PRODID:-//918 Bathurst - ECPv6.15.20//NONSGML v1.0//EN
CALSCALE:GREGORIAN
METHOD:PUBLISH
X-WR-CALNAME:918 Bathurst
X-ORIGINAL-URL:https://918bathurst.com
X-WR-CALDESC:Events for 918 Bathurst
REFRESH-INTERVAL;VALUE=DURATION:PT1H
X-Robots-Tag:noindex
X-PUBLISHED-TTL:PT1H
BEGIN:VTIMEZONE
TZID:UTC
BEGIN:STANDARD
TZOFFSETFROM:+0000
TZOFFSETTO:+0000
TZNAME:UTC
DTSTART:20240101T000000
END:STANDARD
END:VTIMEZONE
BEGIN:VEVENT
DTSTART;TZID=UTC:20250403T200000
DTEND;TZID=UTC:20250403T220000
DTSTAMP:20260420T181256
CREATED:20250312T172607Z
LAST-MODIFIED:20250312T172607Z
UID:19128-1743710400-1743717600@918bathurst.com
SUMMARY:Silt: Freshwater Edition
DESCRIPTION:Silt is an evening of performance. Through a public open call\, five artists are each provided with 15 minutes to present an action\, event\, performance. Silt was originally started for dance\, movement\, and performance artists; however\, it is open to everyone regardless of artistic or personal identifications. The aim of Silt is to provide participants with an accessible low stakes stage for experimentation and expression. \n​​​Featuring: \nEnzo Sun\nAlison Viegas & Maya Gale-Buncel\nseeley quest​​\nRacquel Rowe & Katie Huckson​​\nDaniela Jezerinac \nPerformers are currently selected by members of the Tuya Vale Artist Collective (https://www.tuyavale.com/artists) with the aim to encourage multiplicity and contrast. We do our best to provide opportunities to everyone who expresses interest. \nSilt is free to attend
URL:https://918bathurst.com/event/silt-freshwater-edition/
LOCATION:918 Bathurst: Culture\, Arts\, Media & Education\, 918 Bathurst Street\, Toronto\, ON\, M5R 3G5\, Canada
CATEGORIES:Event,Featured Event
ATTACH;FMTTYPE=image/png:https://918bathurst.com/wp-content/uploads/2025/03/siltposter_final.png
END:VEVENT
END:VCALENDAR