BEGIN:VCALENDAR
VERSION:2.0
PRODID:-//918 Bathurst - ECPv6.15.20//NONSGML v1.0//EN
CALSCALE:GREGORIAN
METHOD:PUBLISH
X-WR-CALNAME:918 Bathurst
X-ORIGINAL-URL:https://918bathurst.com
X-WR-CALDESC:Events for 918 Bathurst
REFRESH-INTERVAL;VALUE=DURATION:PT1H
X-Robots-Tag:noindex
X-PUBLISHED-TTL:PT1H
BEGIN:VTIMEZONE
TZID:UTC
BEGIN:STANDARD
TZOFFSETFROM:+0000
TZOFFSETTO:+0000
TZNAME:UTC
DTSTART:20230101T000000
END:STANDARD
END:VTIMEZONE
BEGIN:VEVENT
DTSTART;TZID=UTC:20241123T200000
DTEND;TZID=UTC:20241123T230000
DTSTAMP:20260421T072407
CREATED:20241106T011346Z
LAST-MODIFIED:20241106T011346Z
UID:19041-1732392000-1732402800@918bathurst.com
SUMMARY:Your Dance Class Presents: Villains
DESCRIPTION:Step into the shadows with us as we prepare to embrace the dark side. This thrilling show featuring over 50 performers delves into the allure of iconic evil … or perhaps just misunderstood characters\, bringing a seductive and edgy twist to the stage. ⁠⁠With sultry choreography and sexy vibes\, Villains will captivate your senses and challenge your perceptions. Join us as we explore the depths of our inner mischief and prove that even the wicked can shine. ⁠We’re entering our villain era—are you ready? \nFor more information and tickets\, click here!
URL:https://918bathurst.com/event/your-dance-class-presents-villains/
LOCATION:918 Bathurst: Culture\, Arts\, Media & Education\, 918 Bathurst Street\, Toronto\, ON\, M5R 3G5\, Canada
CATEGORIES:Event,Featured Event
ATTACH;FMTTYPE=image/png:https://918bathurst.com/wp-content/uploads/2024/11/Screen-Shot-2024-11-04-at-4.05.29-PM.png
END:VEVENT
END:VCALENDAR