BEGIN:VCALENDAR
VERSION:2.0
PRODID:-//918 Bathurst - ECPv6.15.20//NONSGML v1.0//EN
CALSCALE:GREGORIAN
METHOD:PUBLISH
X-ORIGINAL-URL:https://918bathurst.com
X-WR-CALDESC:Events for 918 Bathurst
REFRESH-INTERVAL;VALUE=DURATION:PT1H
X-Robots-Tag:noindex
X-PUBLISHED-TTL:PT1H
BEGIN:VTIMEZONE
TZID:UTC
BEGIN:STANDARD
TZOFFSETFROM:+0000
TZOFFSETTO:+0000
TZNAME:UTC
DTSTART:20230101T000000
END:STANDARD
END:VTIMEZONE
BEGIN:VEVENT
DTSTART;TZID=UTC:20241205T183000
DTEND;TZID=UTC:20241205T230000
DTSTAMP:20260421T044849
CREATED:20241101T202843Z
LAST-MODIFIED:20241101T202843Z
UID:19030-1733423400-1733439600@918bathurst.com
SUMMARY:Ark: In Search of Surrender
DESCRIPTION:Ark is an immersive experience that explores the potential for communal healing and connection\, inspired by indigenous African wisdom. \nJoin us for an immersive experience involving a ritual ceremony\, led by O D U D U. Participants are encouraged to bring personal artifacts\, such as letters\, jewelry or photographs\, as offerings. \nGuided by a live musical performance\, the ritual begins with a choreographed procession from the symbolic “Village” to the “Shrine”; a striking 13-foot-tall sculpture meticulously crafted by the architect. There\, selected participants will exchange their offerings for a Seed which they will sanctify with water – a metaphor for the nurturing cycle of life. \nA communal gathering will follow\, offering space for reflection\, feedback\, and connection\, with music and an intimate conversation to close the evening.
URL:https://918bathurst.com/event/ark-in-search-of-surrender/
LOCATION:918 Bathurst: Culture\, Arts\, Media & Education\, 918 Bathurst Street\, Toronto\, ON\, M5R 3G5\, Canada
CATEGORIES:Event,Featured Event
ATTACH;FMTTYPE=image/jpeg:https://918bathurst.com/wp-content/uploads/2024/11/Snapinsta.app_465080501_541172281848481_1379318948183573414_n_1080.jpg
END:VEVENT
BEGIN:VEVENT
DTSTART;TZID=UTC:20241219T180000
DTEND;TZID=UTC:20241219T230000
DTSTAMP:20260421T044849
CREATED:20241121T214512Z
LAST-MODIFIED:20241121T214512Z
UID:19062-1734631200-1734649200@918bathurst.com
SUMMARY:HENRI FABERGE CRESKINS BALL
DESCRIPTION:Dust off your finest gowns and pearls and join us for a night of comedy\, music & mayhem in the festive spirit of St. Creskins! \n✨ Early show : 6-8pm ✨ late show : 8:30-10:30pm ✨ \nIt’s the most frestive time of year … ST. CRESKINS !✨ \nYou are formally invited to attend the Creskins Ball\, an annual celebration at the stately home of the Templethorp family. ✨ \nFestivities include (but not limited to) : cup games ; Hot Jeremys ; gossip & intrigue ; trad dance lessons ; snacks & libations ; japes ; and\, an audience with Lord Templethorp himself. ✨ \nPLEASE BE ADVISED : It will be the first time a member of the disgraced Fabergé family has received an invite in over a decade. Acknowledgment is left to your discretion. ✨ \nDRESS CODE : it’s a Ball with a capital ‘B’. The vibe is “ ELEGANT \, FABULOUS “ ✨ \nCRYPTIC CRESKINS : if you wish to participate in this traditional anonymous gift exchange\, bring a small gift (maximum value $20) ✨ \nUnfortunately\, the venue is not wheelchair accessible \nStarring: \nGwynne Phillips\nBriana Templeton\nKayla Lorette\nRoger Bainbridge\nMiguel Rivas\nAlex Tindal\nClare McConnell\nAdam Niebergall\nSharjil Rasool\nJohnny Spence\nSteve Foster\nRodrigo Fernandez-Stoll\nSarah Bennett\nJuliann Wilding\nNicole Passmore\nJackie Pirico\nSarah Ruba\nNew Chance\nAnh Phung
URL:https://918bathurst.com/event/henri-faberge-creskins-ball/
LOCATION:918 Bathurst: Culture\, Arts\, Media & Education\, 918 Bathurst Street\, Toronto\, ON\, M5R 3G5\, Canada
CATEGORIES:Event,Featured Event
ATTACH;FMTTYPE=image/png:https://918bathurst.com/wp-content/uploads/2024/11/Screen-Shot-2024-11-21-at-4.41.06-PM.png
END:VEVENT
END:VCALENDAR