BEGIN:VCALENDAR
VERSION:2.0
PRODID:-//918 Bathurst - ECPv6.15.20//NONSGML v1.0//EN
CALSCALE:GREGORIAN
METHOD:PUBLISH
X-WR-CALNAME:918 Bathurst
X-ORIGINAL-URL:https://918bathurst.com
X-WR-CALDESC:Events for 918 Bathurst
REFRESH-INTERVAL;VALUE=DURATION:PT1H
X-Robots-Tag:noindex
X-PUBLISHED-TTL:PT1H
BEGIN:VTIMEZONE
TZID:UTC
BEGIN:STANDARD
TZOFFSETFROM:+0000
TZOFFSETTO:+0000
TZNAME:UTC
DTSTART:20240101T000000
END:STANDARD
END:VTIMEZONE
BEGIN:VEVENT
DTSTART;TZID=UTC:20250514T120000
DTEND;TZID=UTC:20250525T170000
DTSTAMP:20260420T103810
CREATED:20250501T192037Z
LAST-MODIFIED:20250501T193419Z
UID:19193-1747224000-1748192400@918bathurst.com
SUMMARY:Spectra Presents: Gallery 44 Members Exhibition
DESCRIPTION:Spectra brings together new work by innovative members of Gallery 44 Centre for Contemporary Photography in an exhibition that represents a variety of different photographic concepts. As the name suggests the work demonstrates the many possibilities that are open to contemporary photographers and celebrates the diversity of artistic practice revealing the ways seemingly disparate work can intersect. Spectra\, a changing collective of members\, has been an active participant in CONTACT Photography Festival since its inception. \n(See full schedule for open dates) \nFor more information and tickets\, click here
URL:https://918bathurst.com/event/spectra-presents-gallery-44-members-exhibition/
LOCATION:918 Bathurst: Culture\, Arts\, Media & Education\, 918 Bathurst Street\, Toronto\, ON\, M5R 3G5\, Canada
CATEGORIES:Event,Featured Event
ATTACH;FMTTYPE=image/jpeg:https://918bathurst.com/wp-content/uploads/2025/05/https___cdn.evbuc_.com_images_1004553853_112140540091_1_original.jpeg
END:VEVENT
BEGIN:VEVENT
DTSTART;TZID=UTC:20250522T190000
DTEND;TZID=UTC:20250522T203000
DTSTAMP:20260420T103810
CREATED:20250417T200735Z
LAST-MODIFIED:20250417T200735Z
UID:19174-1747940400-1747945800@918bathurst.com
SUMMARY:IAN MAKSIN in TORONTO: "BEYOND NEOCLASSICAL"
DESCRIPTION:Immerse yourself in the deep\, soothing and healing vibrations of the cello with world acclaimed cellist\, composer\, and multilingual vocalist Ian Maksin! In this concert\, he will perform brand new original instrumental music inspired by his recent travels to India and Nepal\, as well as music written throughout the years and recorded on several releases: Zaria\, Sempre\, Alchemist\, Amor Renatus. He will also share several songs from his collection of songs from over 50 countries in 38 languages. Maksin’s original music transcends well beyond New Age and Neo-Classical\, as it encompasses elements of many genres from jazz to world music\, drawing inspiration from traditional African\, Mongolian and Middle Eastern Music\, from Mozart and Bach\, as well as from contemporary composers as Astor Piazzolla and Ludovico Einaudi. Expanded by use of the loop pedal and other electronics to sound like a real orchestra\, his music will take you on a mystical spiritual journey through Tribal Africa\, Mongolia\, lands of North American natives\, and beyond.
URL:https://918bathurst.com/event/ian-maksin-in-toronto-beyond-neoclassical/
LOCATION:918 Bathurst: Culture\, Arts\, Media & Education\, 918 Bathurst Street\, Toronto\, ON\, M5R 3G5\, Canada
CATEGORIES:Event,Featured Event
ATTACH;FMTTYPE=image/jpeg:https://918bathurst.com/wp-content/uploads/2025/04/Snapins.ai_465019187_18377107912106551_3766461757046473147_n_1080.jpg
END:VEVENT
END:VCALENDAR