BEGIN:VCALENDAR
VERSION:2.0
PRODID:-//918 Bathurst - ECPv6.15.20//NONSGML v1.0//EN
CALSCALE:GREGORIAN
METHOD:PUBLISH
X-WR-CALNAME:918 Bathurst
X-ORIGINAL-URL:https://918bathurst.com
X-WR-CALDESC:Events for 918 Bathurst
REFRESH-INTERVAL;VALUE=DURATION:PT1H
X-Robots-Tag:noindex
X-PUBLISHED-TTL:PT1H
BEGIN:VTIMEZONE
TZID:UTC
BEGIN:STANDARD
TZOFFSETFROM:+0000
TZOFFSETTO:+0000
TZNAME:UTC
DTSTART:20240101T000000
END:STANDARD
END:VTIMEZONE
BEGIN:VEVENT
DTSTART;TZID=UTC:20250420T180000
DTEND;TZID=UTC:20250420T200000
DTSTAMP:20260420T135616
CREATED:20250327T152201Z
LAST-MODIFIED:20250327T152201Z
UID:19138-1745172000-1745179200@918bathurst.com
SUMMARY:A Little Night Of Music
DESCRIPTION:Project Apollo’s SECOND National Fundraiser!! \nExperience classical tunes performed by talented musicians from across the GTA\, in support of a charitable cause. \nAll proceeds will go towards Project Apollo Association\, a registered Canadian non-profit organization dedicated to increasing music accessibility through hosting quality concerts like this one and donating educational resources & instruments to those in need. \nA Little Night Music will feature some of GTA’s MOST SKILLED preeminent youth musicians\, with a evening filled with classical\, romantic\, and impressionist genres. \nBring your friends and family\, for an unforgettable evening. More info coming soon \nLink to tickets here. \n 
URL:https://918bathurst.com/event/a-little-night-of-music/
LOCATION:918 Bathurst: Culture\, Arts\, Media & Education\, 918 Bathurst Street\, Toronto\, ON\, M5R 3G5\, Canada
CATEGORIES:Event,Featured Event
ATTACH;FMTTYPE=image/png:https://918bathurst.com/wp-content/uploads/2025/03/A-Little-Night-Music-Poster.png
END:VEVENT
END:VCALENDAR