BEGIN:VCALENDAR
VERSION:2.0
PRODID:-//918 Bathurst - ECPv6.15.20//NONSGML v1.0//EN
CALSCALE:GREGORIAN
METHOD:PUBLISH
X-ORIGINAL-URL:https://918bathurst.com
X-WR-CALDESC:Events for 918 Bathurst
REFRESH-INTERVAL;VALUE=DURATION:PT1H
X-Robots-Tag:noindex
X-PUBLISHED-TTL:PT1H
BEGIN:VTIMEZONE
TZID:UTC
BEGIN:STANDARD
TZOFFSETFROM:+0000
TZOFFSETTO:+0000
TZNAME:UTC
DTSTART:20230101T000000
END:STANDARD
END:VTIMEZONE
BEGIN:VEVENT
DTSTART;VALUE=DATE:20240927
DTEND;VALUE=DATE:20240930
DTSTAMP:20260421T204612
CREATED:20240819T190926Z
LAST-MODIFIED:20240821T143301Z
UID:18960-1727395200-1727654399@918bathurst.com
SUMMARY:EduCanine - Dogs and the City 2024
DESCRIPTION:“Dogs and the City\,” is a conference centered around exploring the influence of city life on dogs. It caters to a diverse audience\, including dog owners/guardians\, shelter workers\, veterinarians\, vet techs\, walkers\, dog daycare attendants\, groomers\, and trainers.Renowned industry leaders will share insights on the escalating behavioral challenges\, their underlying causes\, and a plethora of effective strategies to aid in addressing these issues. \nWhen:\nSeptember 27-29\, 2024\n10am – 5pm
URL:https://918bathurst.com/event/educanine-dogs-and-the-city-2024/
LOCATION:918 Bathurst: Culture\, Arts\, Media & Education\, 918 Bathurst Street\, Toronto\, ON\, M5R 3G5\, Canada
CATEGORIES:Event,Featured Event
ATTACH;FMTTYPE=image/jpeg:https://918bathurst.com/wp-content/uploads/2024/08/Snapinsta.app_454493179_909454481179225_610902016720122210_n_1080.jpg
END:VEVENT
END:VCALENDAR