BEGIN:VCALENDAR
VERSION:2.0
PRODID:-//918 Bathurst - ECPv6.15.20//NONSGML v1.0//EN
CALSCALE:GREGORIAN
METHOD:PUBLISH
X-WR-CALNAME:918 Bathurst
X-ORIGINAL-URL:https://918bathurst.com
X-WR-CALDESC:Events for 918 Bathurst
REFRESH-INTERVAL;VALUE=DURATION:PT1H
X-Robots-Tag:noindex
X-PUBLISHED-TTL:PT1H
BEGIN:VTIMEZONE
TZID:UTC
BEGIN:STANDARD
TZOFFSETFROM:+0000
TZOFFSETTO:+0000
TZNAME:UTC
DTSTART:20230101T000000
END:STANDARD
END:VTIMEZONE
BEGIN:VEVENT
DTSTART;TZID=UTC:20240620T190000
DTEND;TZID=UTC:20240620T230000
DTSTAMP:20260420T134056
CREATED:20240605T185832Z
LAST-MODIFIED:20240605T185832Z
UID:18897-1718910000-1718924400@918bathurst.com
SUMMARY:Spurs Night: One-Year Anniversary Party
DESCRIPTION:Come celebrate one year of SPURS with a proper party! \nNo lessons\, just dancing all night! Every line dance ever taught at SPURS! \nMerch! Drinks! Special performances! \nNO DOOR TICKETS \nFor more information\, and to purchase tickets\, click here!
URL:https://918bathurst.com/event/spurs-night-one-year-anniversary-party/
LOCATION:918 Bathurst: Culture\, Arts\, Media & Education\, 918 Bathurst Street\, Toronto\, ON\, M5R 3G5\, Canada
CATEGORIES:Event,Featured Event
ATTACH;FMTTYPE=image/jpeg:https://918bathurst.com/wp-content/uploads/2024/06/Snapinsta.app_446501114_768011582145225_4911535962941578145_n_1080.jpg
END:VEVENT
END:VCALENDAR