BEGIN:VCALENDAR
VERSION:2.0
PRODID:-//918 Bathurst - ECPv6.15.20//NONSGML v1.0//EN
CALSCALE:GREGORIAN
METHOD:PUBLISH
X-WR-CALNAME:918 Bathurst
X-ORIGINAL-URL:https://918bathurst.com
X-WR-CALDESC:Events for 918 Bathurst
REFRESH-INTERVAL;VALUE=DURATION:PT1H
X-Robots-Tag:noindex
X-PUBLISHED-TTL:PT1H
BEGIN:VTIMEZONE
TZID:UTC
BEGIN:STANDARD
TZOFFSETFROM:+0000
TZOFFSETTO:+0000
TZNAME:UTC
DTSTART:20230101T000000
END:STANDARD
END:VTIMEZONE
BEGIN:VEVENT
DTSTART;TZID=UTC:20240613T150000
DTEND;TZID=UTC:20240613T203000
DTSTAMP:20260420T221441
CREATED:20240605T185536Z
LAST-MODIFIED:20240605T185536Z
UID:18894-1718290800-1718310600@918bathurst.com
SUMMARY:Labyrinth Ontario Presents: Western & World Symposium
DESCRIPTION:Western and World is a much-needed forum about the forms and limits of Western hegemony in music presentation\, production\, and education. Breaking from traditional academic conferences\, the symposium will feature talks\, performances\, and round-table discussions that bridge music communities. \nRegistration is not required\, yet recommended through this link\nThis symposium is FREE except the concerts on June 13 and June 15! \nMore information\, including pricing an scheduling\, here!
URL:https://918bathurst.com/event/labyrinth-ontario-presents-western-world-symposium/
LOCATION:918 Bathurst: Culture\, Arts\, Media & Education\, 918 Bathurst Street\, Toronto\, ON\, M5R 3G5\, Canada
CATEGORIES:Event,Featured Event
ATTACH;FMTTYPE=image/jpeg:https://918bathurst.com/wp-content/uploads/2024/06/Snapinsta.app_443749041_1168663420828926_596442867825943454_n_1080.jpg
END:VEVENT
END:VCALENDAR