BEGIN:VCALENDAR
VERSION:2.0
PRODID:-//918 Bathurst - ECPv6.15.20//NONSGML v1.0//EN
CALSCALE:GREGORIAN
METHOD:PUBLISH
X-ORIGINAL-URL:https://918bathurst.com
X-WR-CALDESC:Events for 918 Bathurst
REFRESH-INTERVAL;VALUE=DURATION:PT1H
X-Robots-Tag:noindex
X-PUBLISHED-TTL:PT1H
BEGIN:VTIMEZONE
TZID:UTC
BEGIN:STANDARD
TZOFFSETFROM:+0000
TZOFFSETTO:+0000
TZNAME:UTC
DTSTART:20230101T000000
END:STANDARD
END:VTIMEZONE
BEGIN:VEVENT
DTSTART;TZID=UTC:20240608T170000
DTEND;TZID=UTC:20240608T210000
DTSTAMP:20260420T053237
CREATED:20240522T172802Z
LAST-MODIFIED:20240522T172802Z
UID:18881-1717866000-1717880400@918bathurst.com
SUMMARY:The TEACH Project Fundraising Soirée
DESCRIPTION:Join us for a night of art\, music\, and dance to raise funds for a great cause. \nAll proceeds of the event\, including any ticket\, art\, and bar sales will be donated to Arfak. \nWe are a group of young professionals\, social justice activists\, and artists who have come together to found The TEACH Project: an initiative with the goal of raising awareness about and removing the barriers to access to education for children in Iran. \nFor this event\, we’ll be raising funds for Arfak NGO in Tehran\, Iran. Arfak is a not-for-profit organization in Tehran\, which provides the necessary educational\, social and health services to enable vulnerable children in need to remain in school and receive education as an investment towards their future. To date\, Arfak has supported approximately 2000 children throughout Iran. \nWorks created by current Arfak students will be showcased and the guests will have an opportunity to purchase these works to further support the cause. The night will host musical and dance performances by local Toronto-based artists. \n*All ticket sales are final. No refunds. \n*A free glass of wine and light refreshments will be included with your ticket. Additional beverages will be available for purchase
URL:https://918bathurst.com/event/the-teach-project-fundraising-soiree/
LOCATION:918 Bathurst: Culture\, Arts\, Media & Education\, 918 Bathurst Street\, Toronto\, ON\, M5R 3G5\, Canada
CATEGORIES:Event,Featured Event
ATTACH;FMTTYPE=image/png:https://918bathurst.com/wp-content/uploads/2024/05/Screen-Shot-2024-05-22-at-1.26.42-PM.png
END:VEVENT
END:VCALENDAR