BEGIN:VCALENDAR
VERSION:2.0
PRODID:-//918 Bathurst - ECPv6.15.20//NONSGML v1.0//EN
CALSCALE:GREGORIAN
METHOD:PUBLISH
X-ORIGINAL-URL:https://918bathurst.com
X-WR-CALDESC:Events for 918 Bathurst
REFRESH-INTERVAL;VALUE=DURATION:PT1H
X-Robots-Tag:noindex
X-PUBLISHED-TTL:PT1H
BEGIN:VTIMEZONE
TZID:UTC
BEGIN:STANDARD
TZOFFSETFROM:+0000
TZOFFSETTO:+0000
TZNAME:UTC
DTSTART:20230101T000000
END:STANDARD
END:VTIMEZONE
BEGIN:VEVENT
DTSTART;TZID=UTC:20240418T190000
DTEND;TZID=UTC:20240418T230000
DTSTAMP:20260419T170124
CREATED:20240412T153209Z
LAST-MODIFIED:20240412T191416Z
UID:18807-1713466800-1713481200@918bathurst.com
SUMMARY:Labyrinth Ontario Annual Fundraiser
DESCRIPTION:Please Labyrinth Ontario for a silent auction and merchandise launch to raise money for this upcoming year of programming! \nAttendees will enjoy an open bar\, photo booth and two beautiful sets performed by modal musicians🎤
URL:https://918bathurst.com/event/labyrinth-ontario-annual-fundraiser/
LOCATION:918 Bathurst: Culture\, Arts\, Media & Education\, 918 Bathurst Street\, Toronto\, ON\, M5R 3G5\, Canada
CATEGORIES:Event,Featured Event
ATTACH;FMTTYPE=image/jpeg:https://918bathurst.com/wp-content/uploads/2024/04/Snapinsta.app_434372104_3308348239473798_8117993285758304839_n_1080.jpg
END:VEVENT
END:VCALENDAR